BEGIN:VCALENDAR
VERSION:2.0
PRODID:-//ChamberMaster//Event Calendar 2.0//EN
METHOD:PUBLISH
X-PUBLISHED-TTL:P3D
REFRESH-INTERVAL:P3D
CALSCALE:GREGORIAN
BEGIN:VEVENT
DTSTART:20240312T190000Z
DTEND:20240312T200000Z
X-MICROSOFT-CDO-ALLDAYEVENT:FALSE
SUMMARY:Ribbon Cutting: Gallery 48
DESCRIPTION:Join Maury Alliance for a ribbon cutting ceremony celebrating the grand opening of Gallery 48.\n\n...\n\nGallery 48 is a fine art gallery featuring local and international artists. The art shown in the gallery reflects a diverse spectrum of artistic expression as each artist brings a unique perspective\, style and reflection. In addition to fine art\, the gallery offers various handmade artisan products\, including jewelry\, handbags\, accessories\, glass art and more\, handcrafted throughout the world as well as locally. We are thrilled to share our passion for beautiful art with the community.\n\n \n\nRibbon Cutting Day Promotion: 10% off all art and handmade artisan products.\n\n\n\nBeverages and hors d'oeuvres will be served.
X-ALT-DESC;FMTTYPE=text/html:<span style="font-size:16px\;"><span style="font-family:arial\;">Join Maury Alliance for a ribbon cutting ceremony celebrating the grand opening of Gallery 48.</span></span><br />\n...<br />\n<span style="font-size:16px\;"><span style="font-family:arial\;">Gallery 48 is a fine art gallery featuring local and international artists. The art shown in the gallery reflects a diverse spectrum of artistic expression as each artist brings a unique perspective\, style and reflection. In addition to fine art\, the gallery offers various handmade artisan products\, including jewelry\, handbags\, accessories\, glass art and more\, handcrafted throughout the world as well as locally. We are thrilled to share our passion for beautiful art with the community.<br />\n&nbsp\;<br />\n<em>Ribbon Cutting Day Promotion: 10% off all art and handmade artisan products.</em></span></span><br />\n<br />\n<span style="font-family: arial\; font-size: 16px\;">Beverages and hors d&rsquo\;oeuvres will be served.</span><br />\n<span style="font-size:16px\;"><span style="font-family:arial\;">&nbsp\;</span></span><br />\n&nbsp\;\n<p style="margin-top:0in\;margin-right:0in\;margin-bottom:17.0pt\;margin-left:\n0in\;box-sizing:border-box">&nbsp\;</p>\n
LOCATION:107 W 7th St Columbia\, TN 38401
UID:e.1832.564623
SEQUENCE:3
DTSTAMP:20260426T010900Z
URL:https://business.mauryalliance.com/events/details/ribbon-cutting-gallery-48-564623
END:VEVENT

END:VCALENDAR
