BEGIN:VCALENDAR
VERSION:2.0
PRODID:-//ChamberMaster//Event Calendar 2.0//EN
METHOD:PUBLISH
X-PUBLISHED-TTL:P3D
REFRESH-INTERVAL:P3D
CALSCALE:GREGORIAN
BEGIN:VEVENT
DTSTART:20220928T150000Z
DTEND:20220928T160000Z
X-MICROSOFT-CDO-ALLDAYEVENT:FALSE
SUMMARY:Ribbon Cutting for Muletown Digital
DESCRIPTION:Muletown Digital is a Branding and Digital Marketing agency located in Columbia\, TN. We focus on helping business build the perfect brand\, drive traffic\, and grow by converting traffic into customers. We handle everything from Brand Design\, Website Design & Development\, Search Engine Marketing\, Email Campaigns\, Conversion Rate Optimization\, and more. Muletown Digital = Small Town Vibe + Big Time Growth
X-ALT-DESC;FMTTYPE=text/html:<span style="font-size:14px\;"><span style="font-family:arial\;"><span style="color: rgb(51\, 51\, 51)\; background-color: rgb(255\, 255\, 255)\;">Muletown Digital is a Branding and Digital Marketing agency located in Columbia\, TN. We focus on helping business build the perfect brand\, drive traffic\, and grow by converting traffic into customers. We handle everything from Brand Design\, Website Design &amp\; Development\, Search Engine Marketing\, Email Campaigns\, Conversion Rate Optimization\, and more.&nbsp\;<strong>Muletown Digital = Small Town Vibe + Big Time Growth</strong></span></span></span>
LOCATION:Muletown Digital 200 Nicholas Long Drive\, Suite B Columbia\, TN
UID:e.1832.563566
SEQUENCE:3
DTSTAMP:20260424T223321Z
URL:https://business.mauryalliance.com/events/details/ribbon-cutting-for-muletown-digital-563566
END:VEVENT

END:VCALENDAR
