BEGIN:VCALENDAR
VERSION:2.0
PRODID:-//ChamberMaster//Event Calendar 2.0//EN
METHOD:PUBLISH
X-PUBLISHED-TTL:P3D
REFRESH-INTERVAL:P3D
CALSCALE:GREGORIAN
BEGIN:VEVENT
DTSTART:20240226T210000Z
DTEND:20240226T220000Z
X-MICROSOFT-CDO-ALLDAYEVENT:FALSE
SUMMARY:Ribbon Cutting: Festive & Flair
DESCRIPTION:Join Maury Alliance for a ribbon cutting ceremony celebrating the grand opening of Festive & Flair. \n\n...\nWe are the POP STARS of parties! We provide event decor including balloon garlands and backdrops\, helium balloon bouquets\, custom cotton candy (including cotton candy sparkle bombs!!)\, and we now have a shop where we sell festive party supplies and gift items! \n\n\n\nWe are celebrating the opening of our brick & mortar where our community can shop for party supplies\, gift items and also pick up to-go balloon garlands and balloon bouquets! All things party!\n\n\n\nWe will have fun\, bubbly refreshments with cotton candy sparkle bombs\, and a giveaway to enter for a free grab & go garland (to be used at a future date!)
X-ALT-DESC;FMTTYPE=text/html:<span style="font-size:16px\;"><span style="font-family:arial\;">Join Maury Alliance for a ribbon cutting ceremony celebrating the grand opening of Festive &amp\; Flair.&nbsp\;<br />\n...</span></span>\n<div style="margin-top:0in\;margin-bottom:0in\;"><span style="font-size:16px\;"><span style="font-family:arial\;">We are the POP STARS of parties! We provide event decor including balloon garlands and backdrops\, helium balloon bouquets\, custom cotton candy (including cotton candy sparkle bombs!!)\, and we now have a shop where we sell festive party supplies and gift items!&nbsp\;<br />\n<br />\nWe are celebrating the opening of our brick &amp\; mortar&nbsp\;where our community&nbsp\;can shop for party supplies\, gift items and also pick up to-go balloon garlands&nbsp\;and balloon bouquets! All things party!<br />\n<br />\nWe will have fun\, bubbly refreshments with cotton candy sparkle bombs\, and a giveaway to enter for a free grab &amp\; go garland (to be used at a future date!)</span></span></div>\n
LOCATION:1204 S. Main St. Suite B Columbia\, TN 38401
UID:e.1832.564602
SEQUENCE:3
DTSTAMP:20260426T011033Z
URL:https://business.mauryalliance.com/events/details/ribbon-cutting-festive-flair-564602
END:VEVENT

END:VCALENDAR
