BEGIN:VCALENDAR
VERSION:2.0
PRODID:-//ChamberMaster//Event Calendar 2.0//EN
METHOD:PUBLISH
X-PUBLISHED-TTL:P3D
REFRESH-INTERVAL:P3D
CALSCALE:GREGORIAN
BEGIN:VEVENT
DTSTART:20260421T190000Z
DTEND:20260421T200000Z
X-MICROSOFT-CDO-ALLDAYEVENT:FALSE
SUMMARY:Ribbon Cutting: D.R. Horton's\, Reserve at Hickory Ridge
DESCRIPTION:Join Maury Alliance for a ribbon cutting ceremony celebrating the Grand Opening of D.R. Horton's new community\, Reserve at Hickory Ridge!\n\n...\n\nD.R. Horton serves as your home builder in the greater Nashville area and parts of Kentucky! We offer single-family homes\, townhomes\, and condos in this area\, featuring one- and two-story homes all constructed with our spacious\, open-concept floor plans. With homes available from Express\, Emerald or D.R. Horton\, we have a home for nearly every stage in life.
X-ALT-DESC;FMTTYPE=text/html:<span style="font-size:16px\;"><span style="font-family:arial\;">Join Maury Alliance for a ribbon cutting ceremony celebrating the Grand Opening of D.R. Horton&#39\;s new community\, Reserve at Hickory Ridge!<br />\n...</span></span>\n<div style="color:black\;">\n<div style="margin-left:0in\;">D.R. Horton serves as your home builder in the greater Nashville area and parts of Kentucky! We offer single-family homes\, townhomes\, and condos in this area\, featuring one- and two-story homes all constructed with our spacious\, open-concept floor plans. With homes available from Express\, Emerald or D.R. Horton\, we have a home for nearly every stage in life.</div>\n</div>\n\n<p class="xxcontentpasted1" style="margin-bottom:17.0pt\;background:white\;\nbox-sizing:border-box"><span style="font-size:13.5pt\;font-family:&quot\;myriad-pro&quot\;\,serif\;\ncolor:#002554"><o:p></o:p></span></p>\n
LOCATION:4218 Henslowe Road Columbia\, TN 38401
UID:e.1832.566278
SEQUENCE:3
DTSTAMP:20260423T053210Z
URL:https://business.mauryalliance.com/events/details/ribbon-cutting-d-r-horton-s-reserve-at-hickory-ridge-566278
END:VEVENT

END:VCALENDAR
