BEGIN:VCALENDAR
VERSION:2.0
PRODID:-//ChamberMaster//Event Calendar 2.0//EN
METHOD:PUBLISH
X-PUBLISHED-TTL:P3D
REFRESH-INTERVAL:P3D
CALSCALE:GREGORIAN
BEGIN:VEVENT
DTSTART:20231102T140000Z
DTEND:20231102T150000Z
X-MICROSOFT-CDO-ALLDAYEVENT:FALSE
SUMMARY:Ribbon Cutting: Crossroads to Home Coalition - Crossroads to Home Café
DESCRIPTION:Join Maury Alliance for a ribbon cutting ceremony celebrating Crossroads to Home Coalition - Crossroads to Home Caf . \n\n...\n\nThe Crossroads to Home Coalition was formed in 2018 to address the growing needs of the homeless in the Maury County\, TN area. The coalition consists of local non-profit organizations\, churches\, and individuals who each offer a unique program or service to assist the homeless.  The goal of the coalition is to strengthen the programs and services offered by these groups and individuals by creating partnerships\, fostering close communication\, sharing resources and developing long-term solutions for the homeless.\n\n \n\nAt Crossroads to Home Cafe\, we provide coffee\, a lunch\, a shower\, some clothing items and a listening ear to homeless individuals. While talking with our clients we make note of their stated needs and help connect them with organizations that specialize in their area of need. Our goal is to provide a hand-up\, not just a handout.
X-ALT-DESC;FMTTYPE=text/html:<span style="font-size:16px\;"><span style="font-family:arial\;">Join Maury Alliance for a ribbon cutting ceremony celebrating Crossroads to Home Coalition - Crossroads to Home&nbsp\;Caf&eacute\;.&nbsp\;<br />\n...</span><br />\nThe Crossroads to Home Coalition was formed in 2018 to address the growing needs of the homeless in the Maury County\, TN area. The coalition consists of local non-profit organizations\, churches\, and individuals who each offer a unique program or service to assist the homeless.&nbsp\; The goal of the coalition is to strengthen the programs and services offered by these groups and individuals by creating partnerships\, fostering close communication\, sharing resources and developing long-term solutions for the homeless.<br />\n&nbsp\;<br />\nAt Crossroads to Home Cafe\, we provide coffee\, a lunch\, a shower\, some clothing items and a listening ear to homeless individuals. While talking with our clients we make note of their stated needs and help connect them with organizations that specialize in their area of need. Our goal is to provide a hand-up\, not just a handout.</span>
LOCATION:Crossroads to Home Coalition - Crossroads to Home Caf 1001 Galloway Street\, Columbia\, TN 38401
UID:e.1832.564223
SEQUENCE:3
DTSTAMP:20260425T190117Z
URL:https://business.mauryalliance.com/events/details/ribbon-cutting-crossroads-to-home-coalition-crossroads-to-home-caf&#233;-564223
END:VEVENT

END:VCALENDAR
