BEGIN:VCALENDAR
VERSION:2.0
PRODID:-//ChamberMaster//Event Calendar 2.0//EN
METHOD:PUBLISH
X-PUBLISHED-TTL:P3D
REFRESH-INTERVAL:P3D
CALSCALE:GREGORIAN
BEGIN:VEVENT
DTSTART:20240209T190000Z
DTEND:20240209T200000Z
X-MICROSOFT-CDO-ALLDAYEVENT:FALSE
SUMMARY:Ribbon Cutting: Compassus
DESCRIPTION:Join Maury Alliance for a ribbon cutting ceremony celebrating the grand opening of Compassus \n\n...\n\nCompassus is a national leader in providing high-quality\, compassionate\, person-centered care to individuals wherever they call home. Our continuum of integrated home-based care services ensures patients and their families have the support they need to address current and future health needs.\nOur value is in the compassion and expertise of our teams\, which act as an extension of patients' existing care teams. We believe everyone who interacts with us should experience our individualized Care for who I am philosophy\, from the care services we provide to patients and families to how we interact with our partners and one another.
X-ALT-DESC;FMTTYPE=text/html:<span style="font-size:16px\;"><span style="font-family:arial\;">Join Maury Alliance for a ribbon cutting ceremony celebrating the grand opening of Compassus&nbsp\;<br />\n...</span></span><br />\n<span style="color: black\; font-size: 12pt\;">Compassus is a national leader in providing high-quality\, compassionate\, person-centered care to individuals wherever they call home. Our continuum of integrated home-based care services ensures patients and their families have the support they need to address current and future health needs.</span>\n<p class="xxcontentpasted1" style="margin-bottom:17.0pt\;background:white\;\nbox-sizing:border-box"><span style="font-size:12.0pt\;color:black">Our value is in the compassion and expertise of our teams\, which act as an extension of patients&rsquo\; existing care teams. We believe everyone who interacts with us should experience our individualized<span class="xxcontentpasted11">&nbsp\;</span><em><span style="font-family:&quot\;Calibri&quot\;\,sans-serif">Care for who I am</span></em><span class="xxcontentpasted11">&nbsp\;</span>philosophy\, from the care services we provide to patients and families to how we interact with our partners and one another.</span><span style="font-size:13.5pt\;font-family:&quot\;myriad-pro&quot\;\,serif\;\ncolor:#002554"><o:p></o:p></span></p>\n
LOCATION:1503 Hatcher Ln Suite 200 Columbia\, TN 38401
UID:e.1832.564603
SEQUENCE:3
DTSTAMP:20260425T232323Z
URL:https://business.mauryalliance.com/events/details/ribbon-cutting-compassus-564603
END:VEVENT

END:VCALENDAR
