BEGIN:VCALENDAR
VERSION:2.0
PRODID:-//ChamberMaster//Event Calendar 2.0//EN
METHOD:PUBLISH
X-PUBLISHED-TTL:P3D
REFRESH-INTERVAL:P3D
CALSCALE:GREGORIAN
BEGIN:VEVENT
DTSTART:20231017T160000Z
DTEND:20231017T170000Z
X-MICROSOFT-CDO-ALLDAYEVENT:FALSE
SUMMARY:Ribbon Cutting: Apex Recovery
DESCRIPTION:Join Maury Alliance for a ribbon cutting ceremony celebrating the Grand Opening of Apex Recovery's newest location in Columbia\, TN. We will be celebrating the grand opening of their newest and most modern inpatient substance abuse facility opening in Columbia after over a year of total renovations to the NHS building on Trotwood Ave. There will be a prayer service at 10:30 am\, followed by the ribbon cutting at 11am\, live music\, tours of the facility\, refreshments and giveaways!\n\n_\n\n\nAPEX Recovery is a Dual Diagnosis treatment program that creates individualized plans for patients struggling with substance abuse and mental health.  As one of the only addiction treatment providers in Tennessee offering five levels of care\, Apex Recovery  is uniquely equipped to help individuals and families in the communities we serve find hope and healing. From detox to outpatient treatment\, each level of care helps clients build healthy coping skills and overcome the underlying causes of addiction. APEX's newest 72 bed facility in Columbia Tennessee will offer medical detox\, inpatient\, and multiple outpatient services to it's patients.  We also work with most commercial and private insurance providers.  \n\nApex Recovery is an addiction treatment center that provides individualized care for individuals struggling with substance use disorders. Our team of professionals consists of medical specialists\, psychologists\, psychiatrists\, and social workers who work together to create a customized plan for each client. We focus on evidence-based practices such as cognitive-behavioral therapy (CBT)\, mindfulness\, and motivational interviewing to help our clients achieve long-term recovery.\n\n \n\n\n\nFor decades\, the 12-step model has been the sole force behind treatment approaches. However\, this aging framework doesn't always provide individuals searching for help with adequate solutions. This is why Apex Recovery was created: to modernize how we approach recovery by utilizing evidence-based psychological techniques combined with reliable medication-assisted treatments and natural modalities. Our effective findings have resulted in a system that is both accredited and highly respected. In other words\, one that works.
X-ALT-DESC;FMTTYPE=text/html:<span style="font-size:16px\;"><span style="font-family:arial\;">Join Maury Alliance for a ribbon cutting ceremony celebrating the Grand Opening of Apex Recovery&#39\;s newest location in Columbia\, TN.&nbsp\;We</span></span><em><span style="font-size: 16px\;"><span style="font-family: arial\;">&nbsp\;</span></span></em><span style="font-size:16px\;"><span style="font-family:arial\;">will be celebrating the grand opening of their newest and most modern inpatient substance abuse facility opening in Columbia after over a year of total renovations to the NHS building on Trotwood Ave. There will be a prayer service at 10:30 am\, followed by the ribbon cutting at 11am\, live music\, tours of the facility\, refreshments and giveaways!<br />\n_</span></span>\n<p style="margin-top:0in\;margin-right:0in\;margin-bottom:17.0pt\;margin-left:\n0in"><br />\n<span style="color:#696969\;"><span style="font-size:16px\;"><span style="font-family:arial\;">APEX Recovery is a Dual Diagnosis treatment program that creates individualized plans for patients struggling with substance abuse and mental health.&nbsp\; As one of the only addiction treatment providers in Tennessee offering five levels of care\, Apex Recovery&nbsp\; is uniquely equipped to help individuals and families in the communities we serve find hope and healing. From detox to outpatient treatment\, each level of care helps clients build healthy coping skills and overcome the underlying causes of addiction. APEX&#39\;s newest 72 bed facility in Columbia Tennessee will offer medical detox\, inpatient\, and multiple outpatient services to it&#39\;s patients.&nbsp\; We also work with most commercial and private insurance providers.&nbsp\;&nbsp\;</span></span></span></p>\n\n<p style="margin-top:0in\;margin-right:0in\;margin-bottom:17.0pt\;margin-left:\n0in"><span style="font-size:16px\;"><span style="font-family:arial\;"><span style="color:#696969\;">Apex Recovery is an&nbsp\;</span><a href="https://apextn.rehab/addiction-treatment-programs-nashville/" style="box-sizing:border-box\;text-decoration-line:none" target="_self"><span style="color:#696969\;">addiction treatment center</span></a><span style="color:#696969\;">&nbsp\;that provides individualized care for individuals struggling with substance use disorders.&nbsp\;</span><a href="https://apextn.rehab/about-apex-recovery-nashville/apex-recovery-nashville-team/" style="box-sizing:border-box\;text-decoration-line:none" target="_self"><span style="color:#696969\;">Our team</span></a><span style="color:#696969\;">&nbsp\;of professionals consists of medical specialists\, psychologists\, psychiatrists\, and social workers who work together to create a customized plan for each client. We focus on evidence-based practices such as cognitive-behavioral therapy (CBT)\, mindfulness\, and motivational interviewing to help our clients achieve long-term recovery.</span></span></span></p>\n\n<p style="margin-top:0in\;margin-right:0in\;margin-bottom:17.0pt\;margin-left:\n0in">&nbsp\;</p>\n\n<p style="margin-top:0in\;margin-right:0in\;margin-bottom:17.0pt\;margin-left:\n0in"><span style="color:#696969\;"><span style="font-size: 12pt\; font-family: Arial\, sans-serif\;"><o:p></o:p></span></span></p>\n\n<p style="margin-top:0in\;margin-right:0in\;margin-bottom:17.0pt\;margin-left:\n0in\;box-sizing:border-box"><span style="color:#696969\;"><span style="font-size:16px\;"><span style="font-family:arial\;">For decades\, the 12-step model has been the sole force behind treatment approaches. However\, this aging framework doesn&rsquo\;t always provide individuals searching for help with adequate solutions. This is why Apex Recovery was created: to modernize how we approach recovery by utilizing evidence-based psychological techniques combined with reliable medication-assisted treatments and natural modalities. Our effective findings have resulted in a system that is both accredited and highly respected. In other words\, one that works.</span></span></span></p>\n\n<p style="margin-top:0in\;margin-right:0in\;margin-bottom:17.0pt\;margin-left:\n0in\;box-sizing:border-box">&nbsp\;</p>\n\n<p style="margin-top:0in\;margin-right:0in\;margin-bottom:17.0pt\;margin-left:\n0in\;box-sizing:border-box"><span style="font-size:12.0pt\;font-family:&quot\;Arial&quot\;\,sans-serif\;\ncolor:#686868"><o:p></o:p></span></p>\n
LOCATION:Apex Recovery 2710 Trotwood Ave\, Columbia\, TN
UID:e.1832.564187
SEQUENCE:3
DTSTAMP:20260425T173041Z
URL:https://business.mauryalliance.com/events/details/ribbon-cutting-apex-recovery-564187
END:VEVENT

END:VCALENDAR
