BEGIN:VCALENDAR
VERSION:2.0
PRODID:-//ChamberMaster//Event Calendar 2.0//EN
METHOD:PUBLISH
X-PUBLISHED-TTL:P3D
REFRESH-INTERVAL:P3D
CALSCALE:GREGORIAN
BEGIN:VEVENT
DTSTART:20231206T143000Z
DTEND:20231206T153000Z
X-MICROSOFT-CDO-ALLDAYEVENT:FALSE
SUMMARY:Retail Committee Meeting
DESCRIPTION:This monthly meeting is for retailers\, Maury Alliance Staff\, and city officials to get together and brainstorm ideas and best practices for the small business community of Maury County. All retailers are welcome to attend.
X-ALT-DESC;FMTTYPE=text/html:This monthly meeting is for retailers\, Maury Alliance Staff\, and city officials to get together and brainstorm ideas and best practices for the small business community of Maury County. All retailers are welcome to attend.&nbsp\;
LOCATION:Maury Alliance - Downstairs Conference Room
UID:e.1832.563711
SEQUENCE:3
DTSTAMP:20260425T202821Z
URL:https://business.mauryalliance.com/events/details/retail-committee-meeting-12-06-2023-563711
END:VEVENT

END:VCALENDAR
