BEGIN:VCALENDAR
VERSION:2.0
PRODID:-//ChamberMaster//Event Calendar 2.0//EN
METHOD:PUBLISH
X-PUBLISHED-TTL:P3D
REFRESH-INTERVAL:P3D
CALSCALE:GREGORIAN
BEGIN:VEVENT
DTSTART:20230906T133000Z
DTEND:20230906T143000Z
X-MICROSOFT-CDO-ALLDAYEVENT:FALSE
SUMMARY:Retail Committee Meeting
DESCRIPTION:This monthly meeting is for retailers\, Maury Alliance Staff\, and city officials to get together and brainstorm ideas and best practices for the small business community of Maury County. All retailers are welcome to attend.
X-ALT-DESC;FMTTYPE=text/html:This monthly meeting is for retailers\, Maury Alliance Staff\, and city officials to get together and brainstorm ideas and best practices for the small business community of Maury County. All retailers are welcome to attend.&nbsp\;
LOCATION:Maury Alliance - Downstairs Conference Room
UID:e.1832.563708
SEQUENCE:3
DTSTAMP:20260425T174032Z
URL:https://business.mauryalliance.com/events/details/retail-committee-meeting-09-06-2023-563708
END:VEVENT

END:VCALENDAR
