BEGIN:VCALENDAR
VERSION:2.0
PRODID:-//ChamberMaster//Event Calendar 2.0//EN
METHOD:PUBLISH
X-PUBLISHED-TTL:P3D
REFRESH-INTERVAL:P3D
CALSCALE:GREGORIAN
BEGIN:VEVENT
DTSTART:20231211T010000Z
DTEND:20231211T040000Z
X-MICROSOFT-CDO-ALLDAYEVENT:FALSE
SUMMARY:Point of Grace - GLORIA The Christmas Tour
DESCRIPTION:Point of Grace\n\nGLORIA The Christmas Tour\, with very special guest Mark Schultz and hosted by Andrew Greer\n\nThe women of Point Of Grace have provided a soundtrack to our lives for over two decades.\n\n\nThe trio consisting of Denise Jones\, Shelley Breen\, and Leigh Cappillino continue to find their greatest joy in touring the world and meeting new friends along the way.\n\n\n\n\nVIP tickets purchased in rows A & B allow you early access to come in at 5:45pm and have a Q&A session with the artists! You will have a full thirty minutes prior to the main doors opening at 6:15pm.\n\nDOORS: 6:15 p.m.\n\nSHOW: 7:00 p.m.\n\nFor ADA requests\, please email info@themulehouse.com.
X-ALT-DESC;FMTTYPE=text/html:<p><span style="font-family:robotobold\,helvetica\,arial\,sans-serif">Point of Grace</span></p>\n\n<p><span style="font-family:robotobold\,helvetica\,arial\,sans-serif">GLORIA&nbsp\;</span><span style="font-family:robotobold\,helvetica\,arial\,sans-serif">The Christmas Tour\, with very special guest&nbsp\;</span><span style="font-family:robotobold\,helvetica\,arial\,sans-serif">Mark Schultz and hosted by Andrew Greer</span></p>\n\n<p>The women of Point Of Grace have provided a soundtrack to our lives for over two decades.</p>\n\n<div>\n<div>The trio consisting of Denise Jones\, Shelley Breen\, and Leigh Cappillino continue to find their greatest joy in touring the world and meeting new friends along the way.</div>\n</div>\n\n<p><br />\n<span style="font-family:robotobold\,helvetica\,arial\,sans-serif">VIP tickets</span>&nbsp\;purchased in rows A &amp\; B allow you early access to come in at 5:45pm&nbsp\;and have a Q&amp\;A session with the artists! You will have a full thirty minutes prior to the main doors opening at 6:15pm.</p>\n\n<p>DOORS: 6:15 p.m.</p>\n\n<p>SHOW: 7:00 p.m.</p>\n\n<p>For ADA requests\, please email info@themulehouse.com.</p>\n
LOCATION:The Mule House
UID:e.1832.564347
SEQUENCE:3
DTSTAMP:20260425T203013Z
URL:https://business.mauryalliance.com/events/details/point-of-grace-gloria-the-christmas-tour-564347
END:VEVENT

END:VCALENDAR
