BEGIN:VCALENDAR
VERSION:2.0
PRODID:-//ChamberMaster//Event Calendar 2.0//EN
METHOD:PUBLISH
X-PUBLISHED-TTL:P3D
REFRESH-INTERVAL:P3D
CALSCALE:GREGORIAN
BEGIN:VEVENT
DTSTART:20230911T000000Z
DTEND:20230911T030000Z
X-MICROSOFT-CDO-ALLDAYEVENT:FALSE
SUMMARY:POINT OF GRACE AND FRIENDS
DESCRIPTION:"Sunday Night Live! series featuring Point of Grace & Friends coming to The Mulehouse! \n\nSeptember featured guests include:\n\n\n	DAVID NAIL\n	JASON GRAY\n	MEREDITH ANDREWS\n\n\nEnjoy the interviews with each guest for an up-close look into their personal lives....\n\nCome As You Are! \n\nJoin America's favorite inspirational vocal group for an intimate evening of uplifting songs and stories right here at The Mulehouse! Hosted by platinum selling trio Point of Grace\, Sunday Night Live! showcases the group's hit songs\, hymns & worship favorites\, plus a family -friendly lineup of special guests from the arenas of music \, comedy and inspirational living...all hallmarked by Point of Grace's signature harmonies and concert charisma. This is the first of a monthly series that you won't want to miss! Each show will have a line up of special guests from the arenas of music\, comedy and inspirational living! This series will be full of inspiration and joy and the perfect night to invite all of your family and friends. \n\nABOUT POINT OF GRACE: \n\nPoint of Grace's soaring melodies and rich harmonies have helped define the sound of contemporary Christian music for three decades. With total sales in excess of 8 million units\, the group has garnered two Platinum records\, three Grammy nominations\, 27 #1 singles and numerous Dove awards! To learn more about these amazing women\, visit PointOfGrace.net and follow them at @pointofgracemusic!
X-ALT-DESC;FMTTYPE=text/html:<p><span style="font-family:robotobold\,helvetica\,arial\,sans-serif">&quot\;Sunday Night Live! series featuring Point of Grace &amp\; Friends coming to The Mulehouse!&nbsp\;</span></p>\n\n<p><span style="font-family:robotobold\,helvetica\,arial\,sans-serif">September featured guests include:</span></p>\n\n<ul>\n	<li><span style="font-family:robotobold\,helvetica\,arial\,sans-serif">DAVID NAIL</span></li>\n	<li><span style="font-family:robotobold\,helvetica\,arial\,sans-serif">JASON GRAY</span></li>\n	<li><span style="font-family:robotobold\,helvetica\,arial\,sans-serif">MEREDITH ANDREWS</span></li>\n</ul>\n\n<p>Enjoy the interviews with each guest for an up-close look into their personal lives....</p>\n\n<p><span style="font-family:robotobold\,helvetica\,arial\,sans-serif">Come As You Are!&nbsp\;</span></p>\n\n<p>Join America&#39\;s favorite inspirational vocal group for an intimate evening of uplifting songs and stories right here at The Mulehouse! Hosted by platinum selling trio Point of Grace\, Sunday Night Live!&nbsp\;showcases the group&#39\;s hit songs\, hymns &amp\; worship favorites\, plus a family -friendly lineup of special guests from the arenas of music \, comedy and inspirational living...all hallmarked by Point of Grace&#39\;s signature harmonies and concert charisma.&nbsp\;This is the first of a monthly series that you won&#39\;t want to miss! Each show will have a line up of special guests from the arenas of music\, comedy and inspirational living! This series will be full of inspiration and joy and the perfect night to invite all of your family and friends.&nbsp\;</p>\n\n<p><span style="font-family:robotobold\,helvetica\,arial\,sans-serif">ABOUT POINT OF GRACE:&nbsp\;</span></p>\n\n<p>Point of Grace&#39\;s soaring melodies and rich harmonies have helped define the sound of contemporary Christian music for three decades. With total sales in excess of 8 million units\, the group has garnered two Platinum records\, three Grammy nominations\, 27 #1 singles and numerous Dove awards! To learn more about these amazing women\, visit PointOfGrace.net and follow them at @pointofgracemusic!&nbsp\;</p>\n
LOCATION:THE MULEHOUSE
UID:e.1832.564066
SEQUENCE:3
DTSTAMP:20260425T173956Z
URL:https://business.mauryalliance.com/events/details/point-of-grace-and-friends-564066
END:VEVENT

END:VCALENDAR
