BEGIN:VCALENDAR
VERSION:2.0
PRODID:-//ChamberMaster//Event Calendar 2.0//EN
METHOD:PUBLISH
X-PUBLISHED-TTL:P3D
REFRESH-INTERVAL:P3D
CALSCALE:GREGORIAN
BEGIN:VEVENT
DTSTART:20231217T210000Z
DTEND:20231217T230000Z
X-MICROSOFT-CDO-ALLDAYEVENT:FALSE
SUMMARY:Photos with Santa
DESCRIPTION:FREE EVENT!\n\nBring your kids and pets to meet Santa and take a pic on the Mulehouse stage!\n\nWe'll be collecting new\, unwrapped toys for the Salvation Army Angel Tree program\, and we thank you in advance for your generous contributions to this awesome cause!\n\nWe'll have hot chocolate for the kiddos\, treats for your furry friends and spirits for the stressed out adults!\n\nOur drink specials for the evening:\n\n\n	Mistletoe Mimosa\n\n	Sparkling wine\, cranberry juice\n	White Christmas Margarita\n\n	Silver tequila\, Cointreau\, cranberry & lime juice\, cream of coconut\n	Dirty Santa Shirley\n\n	Vodka\, lime juice\, grenadine & ginger ale\n	Frosty the Snowman\n\n	Vodka\, Blue Curacao\, pineapple juice & sprite\n	Christmas Cookie Cocktail\n\n	Vodka\, amaretto\, Irish Creme and milk\n\n\n(Please ensure that all pets are on a leash or in a carrier.)
X-ALT-DESC;FMTTYPE=text/html:<h3><strong>FREE EVENT!</strong></h3>\n\n<p><strong>Bring your kids and pets to meet Santa and take a pic on the Mulehouse stage!</strong></p>\n\n<p>We&rsquo\;ll be collecting new\, unwrapped toys for the Salvation Army Angel Tree program\, and we thank you in advance for your generous contributions to this awesome cause!</p>\n\n<p>We&rsquo\;ll have hot chocolate for the kiddos\, treats for your furry friends and spirits for the stressed out adults!</p>\n\n<p>Our drink specials for the evening:</p>\n\n<ul>\n	<li><strong>Mistletoe Mimosa</strong><br />\n	Sparkling wine\, cranberry juice</li>\n	<li><strong>White Christmas Margarita</strong><br />\n	Silver tequila\, Cointreau\, cranberry &amp\; lime juice\, cream of coconut</li>\n	<li><strong>Dirty Santa Shirley</strong><br />\n	Vodka\, lime juice\, grenadine &amp\; ginger ale</li>\n	<li><strong>Frosty the Snowman</strong><br />\n	Vodka\, Blue Curacao\, pineapple juice &amp\; sprite</li>\n	<li><strong>Christmas Cookie Cocktail</strong><br />\n	Vodka\, amaretto\, Irish Creme and milk</li>\n</ul>\n\n<p><em>(Please ensure that all pets are on a leash or in a carrier.)</em></p>\n
LOCATION:The Mulehouse 812 S High St Columbia TN 38401
UID:e.1832.564521
SEQUENCE:3
DTSTAMP:20260425T202531Z
URL:https://business.mauryalliance.com/events/details/photos-with-santa-564521
END:VEVENT

END:VCALENDAR
