BEGIN:VCALENDAR
VERSION:2.0
PRODID:-//ChamberMaster//Event Calendar 2.0//EN
METHOD:PUBLISH
X-PUBLISHED-TTL:P3D
REFRESH-INTERVAL:P3D
CALSCALE:GREGORIAN
BEGIN:VEVENT
DTSTART:20240101T030000Z
DTEND:20231231T060000Z
X-MICROSOFT-CDO-ALLDAYEVENT:FALSE
SUMMARY:NYE with Rubiks Grove
DESCRIPTION:Bring in the NEW YEAR with RUBIKS GROOVE! Rubiks Groove is your premiere "Outside of the Box" 80s\, 90s & 00s tribute band   this high energy\, character-driven act will take you back to the best era of music with a complete 360 degree interactive experience that includes live music from rock to hip hop\, characters\, costumes\, and videos! \n\nWe will have drink specials all night long as you dance the night away! \n\nTables for four are available along with general admission standing for the theatre floor. Balcony seating available as well! \n\nBalcony Suite is the place to be for the #1 party night of the year! The suite holds 6-8 people comfortably. You have room to stand or there are two high top tables with barstools and a velvet couch available . You also will have your own designated server throughout the evening. Waters provided along with a charcuterie board for you and your guests!
X-ALT-DESC;FMTTYPE=text/html:<p><span style="font-family:robotobold\,helvetica\,arial\,sans-serif">Bring in the NEW YEAR with RUBIKS GROOVE! Rubiks Groove is your premiere &quot\;Outside of the Box&quot\; 80s\, 90s &amp\; 00s tribute band &ndash\; this high&nbsp\;</span><span style="font-family:robotobold\,helvetica\,arial\,sans-serif">energy\, character-driven act will take you back to the best era of music with a complete 360 degree interactive experience that includes live music from rock to hip hop\, characters\, costumes\, and videos!&nbsp\;</span></p>\n\n<p><em>We will have</em><span style="font-family:robotobold\,helvetica\,arial\,sans-serif"><em>&nbsp\;drink specials</em></span>&nbsp\;all night long as you dance the night away!&nbsp\;</p>\n\n<p><span style="font-family:robotobold\,helvetica\,arial\,sans-serif"><em>Tables for four</em></span>&nbsp\;are available along with general admission standing for the theatre floor. Balcony seating available as well!&nbsp\;</p>\n\n<p><span style="font-family:robotobold\,helvetica\,arial\,sans-serif"><em>Balcony Suite</em></span>&nbsp\;is the place to be for the #1 party night of the year! The suite holds 6-8 people comfortably. You have room to stand or there are two high top tables with barstools and a velvet couch available . You also will have your own designated server throughout the evening. Waters provided along with a charcuterie board for you and your guests!&nbsp\;</p>\n
LOCATION:The Mulehouse 812 S High st Columbia\, TN 38401
UID:e.1832.564514
SEQUENCE:3
DTSTAMP:20260425T202531Z
URL:https://business.mauryalliance.com/events/details/nye-with-rubiks-grove-564514
END:VEVENT

END:VCALENDAR
