BEGIN:VCALENDAR
VERSION:2.0
PRODID:-//ChamberMaster//Event Calendar 2.0//EN
METHOD:PUBLISH
X-PUBLISHED-TTL:P3D
REFRESH-INTERVAL:P3D
CALSCALE:GREGORIAN
BEGIN:VEVENT
DTSTART:20240101T020000Z
DTEND:20240101T063000Z
X-MICROSOFT-CDO-ALLDAYEVENT:FALSE
SUMMARY:New Year's Eve Mule Drop
DESCRIPTION:Please join Center of Hope for the annual New Year's Eve Mule Drop\, Sunday\, Dec 31st 8 pm-12 am.  The event begins at 8 pm with the lighting of the drop\, a toast and the amazing Emerald Empire Band!!!  There will be food trucks\, beer garden\, mobile axe throwing trailer\, and a cigar lounge\, and more!  Hourly countdowns and toasts at 9 pm\, 10 pm\, 11 pm\, leading up to the Grand Finale at Midnight with Fireworks and confetti cannons!!  The outdoor event is FREE and family friendly!!  A special thank you to our partners Experience Maury and Baxter Management! \n\n#nomuleswereharmedinthemakingofthisdrop
X-ALT-DESC;FMTTYPE=text/html:<span style="color:#4A4A4A"><span style="font-family:helvetica\,sans-serif">Please join Center of Hope for the annual New Year&#39\;s Eve Mule Drop\, Sunday\, Dec 31st 8 pm-12 am.&nbsp\; The event begins at 8 pm with the lighting of the drop\, a toast and the amazing Emerald Empire Band!!!&nbsp\; There will be food trucks\, beer garden\, mobile axe throwing trailer\, and a cigar lounge\, and more!&nbsp\; Hourly countdowns and toasts at 9 pm\, 10 pm\, 11 pm\, leading up to the Grand Finale at Midnight with Fireworks and confetti cannons!!&nbsp\; The outdoor event is FREE and family friendly!!&nbsp\;&nbsp\;</span></span><span style="font-size:14pt"><span style="font-family:calibri\,sans-serif">A special thank you to our partners Experience Maury and Baxter Management!</span></span>&nbsp\;<br />\n<span style="color:#4A4A4A"><span style="font-family:helvetica\,sans-serif">#nomuleswereharmedinthemakingofthisdrop</span></span>
LOCATION:Historic Downtown Columbia\, TN at the Courthouse Round and West 7th Street
UID:e.1832.564567
SEQUENCE:3
DTSTAMP:20260425T215010Z
URL:https://business.mauryalliance.com/events/details/new-year-s-eve-mule-drop-12-31-2023-564567
END:VEVENT

END:VCALENDAR
