BEGIN:VCALENDAR
VERSION:2.0
PRODID:-//ChamberMaster//Event Calendar 2.0//EN
METHOD:PUBLISH
X-PUBLISHED-TTL:P3D
REFRESH-INTERVAL:P3D
CALSCALE:GREGORIAN
BEGIN:VEVENT
DTSTART:20231126T000000Z
DTEND:20231126T020000Z
X-MICROSOFT-CDO-ALLDAYEVENT:FALSE
SUMMARY:Mount Pleasant Tree Lighting Ceremony
DESCRIPTION:Main Street Mount Pleasant is proud to announce the much-anticipated first annual Tree Lighting Ceremony\, this event will usher in the holiday season with a brilliant display of 14\,000 LED lights\, festive entertainment\, and community spirit. This new tradition is scheduled to take place on November 25th at 6 PM on the  square.\n\n\n\nHighlights of the event will include:\n\n  Official Tree Lighting: Watch in awe as Main Street's majestic tree is illuminated in a dazzling display of lights\, marking the start of the holiday season at 6 PM.\n\n  Holiday Entertainment: Enjoy live performances from Mount Pleasant Elementary who will sing timeless holiday classics. Followed by performances from the Middle School Dance Team and High school Cheer Squad\n\n  Visit from Santa Claus: The jolly old man himself\, Santa Claus\, will make a special appearance to greet children and hear their holiday wishes on the square from 5 PM until 5:45 PM. Feel free to grab your camera to snap a photo with the man in red!\n\n  Food and Refreshments: The Connection Church will be on hand to provide delicious treats and hot beverages to attendees from 5 PM until 5:45 PM.\n\n  Holiday Shopping: Stroll Main Street before the festivities and start your holiday shopping.
X-ALT-DESC;FMTTYPE=text/html:<p><span style="font-size:16px\;"><span style="font-family:arial\;">Main Street Mount Pleasant is&nbsp\;proud to announce the much-anticipated first annual Tree Lighting Ceremony\,&nbsp\;this event will usher in the holiday season with a brilliant display of 14\,000 LED&nbsp\;lights\, festive entertainment\, and community spirit. This new tradition is scheduled to take place on November 25th at 6 PM on the&nbsp\; square.<br />\n<br />\n<strong>Highlights of the event will include:</strong><br />\n&bull\; Official Tree Lighting: Watch in awe as Main Street&#39\;s majestic tree is&nbsp\;illuminated in a dazzling display of lights\, marking the start of the holiday&nbsp\;season at 6 PM.<br />\n&bull\; Holiday Entertainment: Enjoy live performances from Mount Pleasant&nbsp\;Elementary who will sing timeless holiday classics. Followed by&nbsp\;performances from the Middle School Dance Team and High school Cheer&nbsp\;Squad<br />\n&bull\; Visit from Santa Claus: The jolly old man himself\, Santa Claus\, will make&nbsp\;a special appearance to greet children and hear their holiday wishes on&nbsp\;the square from 5 PM until 5:45 PM. Feel free to grab your camera to snap&nbsp\;a photo with the man in red!<br />\n&bull\; Food and Refreshments: The Connection Church will be on hand to&nbsp\;provide delicious treats and hot beverages to attendees from 5 PM until&nbsp\;5:45 PM.<br />\n&bull\; Holiday Shopping: Stroll Main Street before the festivities and start your&nbsp\;holiday shopping.</span></span></p>\n
LOCATION:
UID:e.1832.564493
SEQUENCE:3
DTSTAMP:20260425T202447Z
URL:https://business.mauryalliance.com/events/details/mount-pleasant-tree-lighting-ceremony-564493
END:VEVENT

END:VCALENDAR
