BEGIN:VCALENDAR
VERSION:2.0
PRODID:-//ChamberMaster//Event Calendar 2.0//EN
METHOD:PUBLISH
X-PUBLISHED-TTL:P3D
REFRESH-INTERVAL:P3D
CALSCALE:GREGORIAN
BEGIN:VEVENT
DTSTART:20260408T140000Z
DTEND:20260408T150000Z
X-MICROSOFT-CDO-ALLDAYEVENT:FALSE
SUMMARY:Monthly Chamber Coffee
DESCRIPTION:Join Maury Alliance for the April Chamber Coffee hosted by Puckett's Restaurant! \n\n\n\nThis is a free networking event and members and future members are welcome to attend\, remember to bring plenty of business cards! Coffee and light refreshments will be served.
X-ALT-DESC;FMTTYPE=text/html:<span style="font-size:16px\;"><span style="font-family:arial\;">Join Maury Alliance for the April Chamber Coffee hosted by <strong>Puckett&#39\;s Restaurant!&nbsp\;</strong><br />\n<br />\nThis is a free networking event and members and future members are welcome to attend\, remember to bring plenty of business cards! Coffee and light refreshments will be served.</span></span>
LOCATION:Puckett's Restaurant Guitar & Cadillac Hall 15 Public Square Columbia\, TN
UID:e.1832.566061
SEQUENCE:3
DTSTAMP:20260423T052847Z
URL:https://business.mauryalliance.com/events/details/monthly-chamber-coffee-566061
END:VEVENT

END:VCALENDAR
