BEGIN:VCALENDAR
VERSION:2.0
PRODID:-//ChamberMaster//Event Calendar 2.0//EN
METHOD:PUBLISH
X-PUBLISHED-TTL:P3D
REFRESH-INTERVAL:P3D
CALSCALE:GREGORIAN
BEGIN:VEVENT
DTSTART:20240110T150000Z
DTEND:20240110T160000Z
X-MICROSOFT-CDO-ALLDAYEVENT:FALSE
SUMMARY:Monthly Chamber Coffee
DESCRIPTION:Join Maury Alliance for the January Chamber Coffee hosted by 101 Haylong. This is a free networking event and members and future members are welcome to attend\, remember to bring plenty of business cards! Coffee and light refreshments will be served.
X-ALT-DESC;FMTTYPE=text/html:<span style="font-size:16px\;"><span style="font-family:arial\;">Join Maury Alliance for the January Chamber Coffee hosted by <strong>101 Haylong.&nbsp\;</strong>This is a free networking event and members and future members are welcome to attend\, remember to bring plenty of business cards! Coffee and light refreshments will be served.</span></span><br />\n<br />\n<br />\n&nbsp\;
LOCATION:
UID:e.1832.564534
SEQUENCE:3
DTSTAMP:20260425T215238Z
URL:https://business.mauryalliance.com/events/details/monthly-chamber-coffee-564534
END:VEVENT

END:VCALENDAR
