BEGIN:VCALENDAR
VERSION:2.0
PRODID:-//ChamberMaster//Event Calendar 2.0//EN
METHOD:PUBLISH
X-PUBLISHED-TTL:P3D
REFRESH-INTERVAL:P3D
CALSCALE:GREGORIAN
BEGIN:VEVENT
DTSTART:20231108T150000Z
DTEND:20231108T160000Z
X-MICROSOFT-CDO-ALLDAYEVENT:FALSE
SUMMARY:Monthly Chamber Coffee
DESCRIPTION:Join Maury Alliance for the November Chamber Coffee hosted by KCS\, LLC. This is a free networking event and members and future members are welcome to attend\, remember to bring plenty of business cards! Coffee and light refreshments will be served.\n\n- \n\nChamber coffees take place on the 2nd Wednesday of every month from 9am to 10am at a different location in Maury County. Click here to download a pdf with all 2023 coffee dates and locations.
X-ALT-DESC;FMTTYPE=text/html:<span style="font-size:16px\;"><span style="font-family:arial\;">Join Maury Alliance for the November Chamber Coffee hosted by <strong>KCS\, LLC.&nbsp\;</strong>This is a free networking event and members and future members are welcome to attend\, remember to bring plenty of business cards! Coffee and light refreshments will be served.<br />\n-&nbsp\;<br />\nChamber coffees take place on the 2nd Wednesday of every month from 9am to 10am at a different location in Maury County. <a href="https://chambermaster.blob.core.windows.net/userfiles/UserFiles/chambers/1832/File/NP_Documents/2023CoffeeCalendar.pdf"><u><strong>Click here</strong></u></a> to download a pdf with all 2023 coffee dates and locations.</span></span>
LOCATION:KCS\, LLC 1985 Ridgecrest Drive\, Columbia\, TN Click on the address below for directions.
UID:e.1832.563782
SEQUENCE:3
DTSTAMP:20260425T185738Z
URL:https://business.mauryalliance.com/events/details/monthly-chamber-coffee-563782
END:VEVENT

END:VCALENDAR
