BEGIN:VCALENDAR
VERSION:2.0
PRODID:-//ChamberMaster//Event Calendar 2.0//EN
METHOD:PUBLISH
X-PUBLISHED-TTL:P3D
REFRESH-INTERVAL:P3D
CALSCALE:GREGORIAN
BEGIN:VEVENT
DTSTART:20231014T223000Z
DTEND:20231015T000000Z
X-MICROSOFT-CDO-ALLDAYEVENT:FALSE
SUMMARY:MOMster Bash
DESCRIPTION:Brought to you by Stan McNabb Chevrolet Columbia\n\nThere are few things as special as the bond between a mother and her son. This event will include an evening of dancing\, kid-friendly refreshments and memories to last a lifetime! Suggested ages 3 and up.
X-ALT-DESC;FMTTYPE=text/html:<p><strong>Brought to you by </strong><a href="https://www.stanmcnabbchevroletcolumbia.com/" style="background-color: transparent\; color: rgb(82\, 194\, 200)\; text-decoration-line: none\; padding-bottom: 0.05em\; border-bottom: 1px solid rgba(82\, 194\, 200\, 0.3)\; transition: border-color 0.15s ease-out 0s\, color 0.15s ease-out 0s\; overflow-wrap: break-word\;"><strong>Stan McNabb Chevrolet Columbia</strong></a></p>\n\n<p>There are few things as special as the bond between a mother and her son. This event will include an evening of dancing\, kid-friendly refreshments and memories to last a lifetime! Suggested ages 3 and up.</p>\n
LOCATION:The Memorial Building 308 W. 7th Street Columbia\, TN 38401
UID:e.1832.564189
SEQUENCE:3
DTSTAMP:20260425T172710Z
URL:https://business.mauryalliance.com/events/details/momster-bash-564189
END:VEVENT

END:VCALENDAR
