BEGIN:VCALENDAR
VERSION:2.0
PRODID:-//ChamberMaster//Event Calendar 2.0//EN
METHOD:PUBLISH
X-PUBLISHED-TTL:P3D
REFRESH-INTERVAL:P3D
CALSCALE:GREGORIAN
BEGIN:VEVENT
DTSTART:20231125T160000Z
DTEND:20231125T210000Z
X-MICROSOFT-CDO-ALLDAYEVENT:FALSE
SUMMARY:Minority-Owned Business Pop-Up
DESCRIPTION:Head over to the Factory at Columbia on Small Business Saturday for a vibrant showcase celebrating the creativity\, innovation\, and entrepreneurship of local minority-owned businesses!\n\n\n\nThere will be plenty of vendors\, local eateries\, Mr. & Mrs. Clause from 11-2pm and line dancing from 1-2pm. Join us for a festive Saturday at the Factory at Columbia! \n\n...\n\nIf you are interested in setting up as a vendor at this event\, contact the Factory at Columbia via this link: factoryatcolumbia.com/minoritypopup
X-ALT-DESC;FMTTYPE=text/html:<span style="font-size:16px\;"><span style="font-family:arial\;">Head over to the Factory at Columbia on Small Business Saturday for a vibrant showcase celebrating the creativity\, innovation\, and entrepreneurship of local minority-owned businesses!</span><br />\n<br />\nThere will be plenty of vendors\, local eateries\, Mr. &amp\; Mrs. Clause from 11-2pm and line dancing from 1-2pm. Join us for a festive Saturday at the Factory at Columbia!&nbsp\;<span style="font-family:arial\;"><br />\n...<br />\nIf you are interested in setting up as a vendor at this event\, contact the Factory at Columbia via this link:&nbsp\;<a href="https://factoryatcolumbia.com/minoritypopup">factoryatcolumbia.com/minoritypopup</a></span></span><br />\n<br />\n&nbsp\;
LOCATION:Factory at Columbia 101 N. James Campbell Blvd.\, Columbia\, TN 38401
UID:e.1832.564365
SEQUENCE:3
DTSTAMP:20260425T185738Z
URL:https://business.mauryalliance.com/events/details/minority-owned-business-pop-up-564365
END:VEVENT

END:VCALENDAR
