BEGIN:VCALENDAR
VERSION:2.0
PRODID:-//ChamberMaster//Event Calendar 2.0//EN
METHOD:PUBLISH
X-PUBLISHED-TTL:P3D
REFRESH-INTERVAL:P3D
CALSCALE:GREGORIAN
BEGIN:VEVENT
DTSTART:20231106T230000Z
DTEND:20231107T003000Z
X-MICROSOFT-CDO-ALLDAYEVENT:FALSE
SUMMARY:Minority-Owned Business Mixer
DESCRIPTION:Maury Alliance and Tee tha Barber\, Chair of the Minority Owned Business Committee\, invite you to attend our minority-owned business mixer on November 6th at the Factory!\n\n\n\nWhether you're a business owner\, aspiring entrepreneur\, or simply passionate about supporting minority-owned businesses\, this mixer is an opportunity for you to expand your network and forge meaningful connections within the vibrant community of Maury County. \n\n\n\nAppetizers and beverages will be served. We'll see you there!
X-ALT-DESC;FMTTYPE=text/html:<span style="font-size:16px\;"><span style="font-family:arial\;">Maury Alliance and Tee tha Barber\, <em>Chair of the Minority Owned Business Committee</em>\, invite you to attend our minority-owned business mixer on November 6th at the Factory!<br />\n<br />\nWhether you&#39\;re a business owner\, aspiring entrepreneur\, or simply passionate about supporting minority-owned businesses\, this mixer is an opportunity for you to expand your network and forge meaningful connections within the vibrant community of Maury County.&nbsp\;<br />\n<br />\nAppetizers and beverages will be&nbsp\;served. We&rsquo\;ll see you there!</span></span>
LOCATION:The Factory at Columbia 101 N James Campbell Blvd Columbia\, TN
UID:e.1832.564351
SEQUENCE:3
DTSTAMP:20260425T185657Z
URL:https://business.mauryalliance.com/events/details/minority-owned-business-mixer-564351
END:VEVENT

END:VCALENDAR
