BEGIN:VCALENDAR
VERSION:2.0
PRODID:-//ChamberMaster//Event Calendar 2.0//EN
METHOD:PUBLISH
X-PUBLISHED-TTL:P3D
REFRESH-INTERVAL:P3D
CALSCALE:GREGORIAN
BEGIN:VEVENT
DTSTART:20260505T220000Z
DTEND:20260506T000000Z
X-MICROSOFT-CDO-ALLDAYEVENT:FALSE
SUMMARY:Meet & Greet with BrightStone Artists
DESCRIPTION:Gallery 48 is excited to host Meet and Greet with BrightStone Artists on May 5th\, 2026 5-7pm. You will have the opportunity to meet the artists\, learn about their creative process and admire their artworks. The gallery will be showcasing pottery art handmade by BrtightStone students in May.\n\nBrightStone is a 501(c)3 established in 1999 and is located in Franklin\, TN. BrightStone's mission is to provide a comprehensive work\, social support\, and residential community for adults with intellectual and developmental disabilities (IDD)\, expanding their potential and helping them develop mentally\, physically\, socially\, emotionally\, and spiritually.\n\nLight refreshments will be served. We are looking forward to seeing you!
X-ALT-DESC;FMTTYPE=text/html:Gallery 48 is excited to host Meet and Greet with BrightStone Artists on May 5th\, 2026 5-7pm. You will have the opportunity to meet the artists\, learn about their creative process and admire their artworks. The gallery will be showcasing pottery art handmade by BrtightStone students in May.<br />\nBrightStone is a 501(c)3 established in 1999 and is located in Franklin\, TN. BrightStone&#39\;s mission is to provide a comprehensive work\, social support\, and residential community for adults with intellectual and developmental disabilities (IDD)\, expanding their potential and helping them develop mentally\, physically\, socially\, emotionally\, and spiritually.<br />\nLight refreshments will be served. We are looking forward to seeing you!
LOCATION:Gallery 48 107 W 7th Street Columbia\, TN 38401
UID:e.1832.566743
SEQUENCE:3
DTSTAMP:20260424T222654Z
URL:https://business.mauryalliance.com/events/details/meet-greet-with-brightstone-artists-566743
END:VEVENT

END:VCALENDAR
