BEGIN:VCALENDAR
VERSION:2.0
PRODID:-//ChamberMaster//Event Calendar 2.0//EN
METHOD:PUBLISH
X-PUBLISHED-TTL:P3D
REFRESH-INTERVAL:P3D
CALSCALE:GREGORIAN
BEGIN:VEVENT
DTSTART:20240130T230000Z
DTEND:20240131T020000Z
X-MICROSOFT-CDO-ALLDAYEVENT:FALSE
SUMMARY:MCCEA Annual Meeting
DESCRIPTION:Join Maury Alliance on Tuesday\, January 30th for our most anticipated event of the year as we celebrate our accomplishments for 2023 and recognize the transition of our volunteer leadership. \n\n\n\nThis will be a lively night of entertainment and networking celebrating business and industry in Maury County with dinner and beverages by It's Chef Jess and live music featuring The Velvet Troubadours.\n\n\n\nPurchase tickets now to guarantee a seat at our biggest event of the year!!
X-ALT-DESC;FMTTYPE=text/html:<p><span style="font-size:18px\;">Join Maury Alliance on Tuesday\, January 30th&nbsp\;for our most anticipated event of the year as we celebrate our accomplishments for 2023&nbsp\;and recognize the transition of our volunteer leadership.&nbsp\;<br />\n<br />\nThis will be a lively night of entertainment and networking celebrating business and industry in Maury County with dinner and beverages by It&#39\;s Chef Jess and live music featuring The Velvet Troubadours.<br />\n<br />\nPurchase tickets now to guarantee a seat at our biggest event of the year!!</span></p>\n
LOCATION:Memorial Building 308 W 7th St. Columbia\, TN 38401
UID:e.1832.564518
SEQUENCE:3
DTSTAMP:20260425T214733Z
URL:https://business.mauryalliance.com/events/details/mccea-annual-meeting-564518
END:VEVENT

END:VCALENDAR
