BEGIN:VCALENDAR
VERSION:2.0
PRODID:-//ChamberMaster//Event Calendar 2.0//EN
METHOD:PUBLISH
X-PUBLISHED-TTL:P3D
REFRESH-INTERVAL:P3D
CALSCALE:GREGORIAN
BEGIN:VEVENT
DTSTART:20260430T200000Z
DTEND:20260501T000000Z
X-MICROSOFT-CDO-ALLDAYEVENT:FALSE
SUMMARY:Maury Regional Nursing Event
DESCRIPTION:RSVP at: mauryregional.com/discovermaury
X-ALT-DESC;FMTTYPE=text/html:<span style="font-size:16px\;"><strong>RSVP at: <a href="http://mauryregional.com/discovermaury">mauryregional.com/discovermaury</a></strong></span>
LOCATION:
UID:e.1832.566739
SEQUENCE:3
DTSTAMP:20260423T015431Z
URL:https://business.mauryalliance.com/events/details/maury-regional-nursing-event-566739
END:VEVENT

END:VCALENDAR
