BEGIN:VCALENDAR
VERSION:2.0
PRODID:-//ChamberMaster//Event Calendar 2.0//EN
METHOD:PUBLISH
X-PUBLISHED-TTL:P3D
REFRESH-INTERVAL:P3D
CALSCALE:GREGORIAN
BEGIN:VEVENT
DTSTART:20231202T020000Z
DTEND:20231202T040000Z
X-MICROSOFT-CDO-ALLDAYEVENT:FALSE
SUMMARY:Locals Live! - Your Local Favorites the First Friday of the Month
DESCRIPTION:JOIN US *FIRST FRIDAY* FOR LIVE MUSIC WITH FOUR OF OUR FAVORITE LOCAL BANDS! \n\n\n	YONDER GROVE\n	THE BUCK SIXX BAND\n	THE WENTZEL BROTHERS BAND\n	KARLI & JAMES\n\n \n\nEach month after the First Friday downtown festivities\, we will have local acts from all over the surrounding area for your Friday night entertainment! This is THE stage to perform on and you never know who will see you and what it could lead to! \n\nWe will have a food truck out front and beer specials running all night long! \n\nIf you are interested in performing\, please email our concert manager Amy Fish (amy@themulehouse.com) with your performance reels & socials for review. \n\nFor ADA requests\, please email info@themulehouse.com.
X-ALT-DESC;FMTTYPE=text/html:<p>JOIN US *FIRST FRIDAY* FOR LIVE MUSIC WITH FOUR OF OUR FAVORITE LOCAL BANDS!&nbsp\;</p>\n\n<ul>\n	<li>YONDER GROVE</li>\n	<li>THE BUCK SIXX BAND</li>\n	<li>THE WENTZEL BROTHERS BAND</li>\n	<li>KARLI &amp\; JAMES</li>\n</ul>\n&nbsp\;\n\n<p>Each month after the First Friday downtown festivities\, we will have local acts from all over the surrounding area for your Friday night entertainment!&nbsp\;This is THE stage to perform on and you never know who will see you and what it could lead to!&nbsp\;</p>\n\n<p>We will have a food truck out front and beer specials running all night long!&nbsp\;</p>\n\n<p>If you are interested in performing\, please email our concert manager Amy Fish (<a href="mailto:amy@themulehouse.com" rel="nofollow" style="transition: all 0.4s ease-in-out 0s\; color: rgb(12\, 154\, 154)\; text-decoration-line: none\; outline: 0px\; padding: 2px\; -webkit-tap-highlight-color: rgb(255\, 255\, 255)\;">amy@themulehouse.com</a>)&nbsp\;with your performance reels &amp\; socials for review.&nbsp\;</p>\n\n<p>For ADA requests\, please email info@themulehouse.com.</p>\n
LOCATION:The Mule House
UID:e.1832.564225
SEQUENCE:3
DTSTAMP:20260425T203044Z
URL:https://business.mauryalliance.com/events/details/locals-live-your-local-favorites-the-first-friday-of-the-month-564225
END:VEVENT

END:VCALENDAR
