BEGIN:VCALENDAR
VERSION:2.0
PRODID:-//ChamberMaster//Event Calendar 2.0//EN
METHOD:PUBLISH
X-PUBLISHED-TTL:P3D
REFRESH-INTERVAL:P3D
CALSCALE:GREGORIAN
BEGIN:VEVENT
DTSTART:20230923T010000Z
DTEND:20230923T040000Z
X-MICROSOFT-CDO-ALLDAYEVENT:FALSE
SUMMARY:KINGS OF QUEEN
DESCRIPTION:A Mulehouse Favorite   back by popular demand!\n\nKings of Queen are the top rated Queen tribute band in the country! What makes them unique is that they are purists in that they do not sing to tracks. All of the music and the vocals that you hear are 100% live by the members of Kings of Queen! \n\n \n\nThe band members who complete The Kings of Queen are guitarist/vocalist Gregg Thompson\, bassist/vocalist Mikey LP\, and dummer/vocalist Ted Morton. Moreover\, Emo Alaeddin visually brings Freddie Mercury to life with his mannerisms\, movements\, costume changes\, and looks.\n\nIf you're looking for a Queen tribute band that is scarily similar to original icons that shaped the rock world so many decades ago\, then look no further... and don't miss this show!\n\n \n\nVIP Experience Includes:\n\n6:30 Entry prior to general admission to experience their sound check/rehearsal and take photos with the band.
X-ALT-DESC;FMTTYPE=text/html:<p><span style="font-family:robotobold\,helvetica\,arial\,sans-serif">A Mulehouse Favorite &ndash\;&nbsp\;back by popular demand!</span></p>\n\n<p><span style="font-family:robotobold\,helvetica\,arial\,sans-serif">Kings of Queen are the top rated Queen tribute band in the country!</span>&nbsp\;What makes them unique is that they are purists in that they do not sing to tracks. All of the music and the vocals that you hear are 100% live by the members of Kings of Queen!&nbsp\;</p>\n\n<p>&nbsp\;</p>\n\n<p>The band members who complete The Kings of Queen are guitarist/vocalist Gregg Thompson\, bassist/vocalist Mikey LP\, and dummer/vocalist Ted Morton. Moreover\, Emo Alaeddin visually brings Freddie Mercury to life with his mannerisms\, movements\, costume changes\, and looks.</p>\n\n<p>If you&rsquo\;re looking for a Queen tribute band that is scarily similar to original icons that shaped the rock world so many decades ago\, then look no further... and don&#39\;t miss this show!</p>\n\n<p>&nbsp\;</p>\n\n<p><span style="font-family:robotobold\,helvetica\,arial\,sans-serif">VIP Experience Includes:</span></p>\n\n<p>6:30 Entry prior to general admission to experience their sound check/rehearsal&nbsp\;and take photos with the band.</p>\n
LOCATION:THE MULEHOUSE
UID:e.1832.564067
SEQUENCE:3
DTSTAMP:20260425T173015Z
URL:https://business.mauryalliance.com/events/details/kings-of-queen-564067
END:VEVENT

END:VCALENDAR
