BEGIN:VCALENDAR
VERSION:2.0
PRODID:-//ChamberMaster//Event Calendar 2.0//EN
METHOD:PUBLISH
X-PUBLISHED-TTL:P3D
REFRESH-INTERVAL:P3D
CALSCALE:GREGORIAN
BEGIN:VEVENT
DTSTART:20231102T170000Z
DTEND:20231102T190000Z
X-MICROSOFT-CDO-ALLDAYEVENT:FALSE
SUMMARY:Job Fair @ Career Solutions 1008 Nasdaq St. Spring Hill\, TN
DESCRIPTION:Thursday\, November 2  12:00 pm - 2:00 pm\n\nJob Fair @ Career Solutions\n\nEmployers Include: City of Spring Hill\, Tennessee Department of Labor\, Staffmark\, ESS\, HireQuest\, and Goodwill Industries of Middle TN & more. \n\nOpenings include but not limited to: Fleet supervisor\, accounting clerk\, firefighter\, janitorial\, substitute teacher\, data entry\, water distribution maintenance\, sewer collection\, assembler\, forklift operator\, warehouse production\, mig welder\, cook\, server\, retail associate and donation attendant.
X-ALT-DESC;FMTTYPE=text/html:Thursday\, November 2&nbsp\; 12:00 pm - 2:00 pm<br />\nJob Fair @ Career Solutions<br />\nEmployers Include: City of Spring Hill\, Tennessee Department of Labor\, Staffmark\, ESS\, HireQuest\, and Goodwill Industries of Middle TN &amp\; more.&nbsp\;<br />\nOpenings include but not limited to: Fleet supervisor\, accounting clerk\, firefighter\, janitorial\, substitute teacher\, data entry\, water distribution maintenance\, sewer collection\, assembler\, forklift operator\, warehouse production\, mig welder\, cook\, server\, retail associate and donation attendant.
LOCATION:Career Solutions 1008 Nasdaq St. Spring Hill\, TN 37174
UID:e.1832.564363
SEQUENCE:3
DTSTAMP:20260425T185847Z
URL:https://business.mauryalliance.com/events/details/job-fair-career-solutions-1008-nasdaq-st-spring-hill-tn-564363
END:VEVENT

END:VCALENDAR
