BEGIN:VCALENDAR
VERSION:2.0
PRODID:-//ChamberMaster//Event Calendar 2.0//EN
METHOD:PUBLISH
X-PUBLISHED-TTL:P3D
REFRESH-INTERVAL:P3D
CALSCALE:GREGORIAN
BEGIN:VEVENT
DTSTART:20230917T160000Z
DTEND:20230917T200000Z
X-MICROSOFT-CDO-ALLDAYEVENT:FALSE
SUMMARY:JAZZ BRUNCH IN THE COURTYARD
DESCRIPTION:Sip on your mimosa or a bloody mary and munch on some lovely eats from Loosewheels Food Truck as you listen to Columbia's own amazing jazz musician Cord Martin! Tables are first come\, first served.
X-ALT-DESC;FMTTYPE=text/html:<div>\n<div style="background:transparent\; border:0px\; padding:0px">\n<p style="text-align:center">Sip on your mimosa or a bloody mary and munch on some lovely eats from Loosewheels Food Truck as you listen to Columbia&rsquo\;s own amazing jazz musician Cord Martin! Tables are first come\, first served.</p>\n\n<div>&nbsp\;</div>\n</div>\n</div>\n
LOCATION:THE MULEHOUSE
UID:e.1832.564151
SEQUENCE:3
DTSTAMP:20260425T172935Z
URL:https://business.mauryalliance.com/events/details/jazz-brunch-in-the-courtyard-564151
END:VEVENT

END:VCALENDAR
