BEGIN:VCALENDAR
VERSION:2.0
PRODID:-//ChamberMaster//Event Calendar 2.0//EN
METHOD:PUBLISH
X-PUBLISHED-TTL:P3D
REFRESH-INTERVAL:P3D
CALSCALE:GREGORIAN
BEGIN:VEVENT
DTSTART:20231208T210000Z
DTEND:20231209T000000Z
X-MICROSOFT-CDO-ALLDAYEVENT:FALSE
SUMMARY:Holiday Open House
DESCRIPTION:Come celebrate the 2023 holiday season with food\, drinks and good company at Maury Alliance's annual Holiday Open House! Drop in anytime between 3:00 pm and 6:00 pm. \n\n\n\n\n\nWe are also collecting new cold weather accessories for donation to our local non-profits. We'll have a donation drop off area near our Christmas Tree! A list of requested items is below. \n\n	Cold weather hats\n	Socks\n	Scarves\n	Gloves
X-ALT-DESC;FMTTYPE=text/html:Come celebrate the 2023 holiday season with food\, drinks and good company at Maury Alliance&#39\;s annual Holiday Open House! Drop in anytime between 3:00 pm and 6:00 pm.&nbsp\;<br />\n<br />\n<br />\nWe are also collecting new cold weather accessories for donation to our local non-profits. We&#39\;ll have a donation drop off area near our Christmas Tree! A list of requested items is below.&nbsp\;\n<ul>\n	<li>Cold weather hats</li>\n	<li>Socks</li>\n	<li>Scarves</li>\n	<li>Gloves</li>\n</ul>\n<br />\n&nbsp\;
LOCATION:Maury Alliance 106 West 6th Street Columbia\, TN
UID:e.1832.564497
SEQUENCE:3
DTSTAMP:20260425T214727Z
URL:https://business.mauryalliance.com/events/details/holiday-open-house-564497
END:VEVENT

END:VCALENDAR
