BEGIN:VCALENDAR
VERSION:2.0
PRODID:-//ChamberMaster//Event Calendar 2.0//EN
METHOD:PUBLISH
X-PUBLISHED-TTL:P3D
REFRESH-INTERVAL:P3D
CALSCALE:GREGORIAN
BEGIN:VEVENT
DTSTART:20231031T230000Z
DTEND:20231101T010000Z
X-MICROSOFT-CDO-ALLDAYEVENT:FALSE
SUMMARY:Haunting in the District 2023
DESCRIPTION:Haunting in the District is a free trick-or-treating event in downtown Columbia for kids 12 and under from 6:00 - 8:00 pm on Halloween night. The event begins at 6:00 pm - no candy will be handed out before this time. \n\n\n\nPlease call us at (931) 375-4101 or email ksmith@maurycounty-tn.gov if you or your business would like to participate!
X-ALT-DESC;FMTTYPE=text/html:<span style="font-size:16px\;"><span style="color: rgb(5\, 5\, 5)\; font-family: &quot\;Segoe UI Historic&quot\;\, &quot\;Segoe UI&quot\;\, Helvetica\, Arial\, sans-serif\;"><span style="font-family:arial\;">Haunting in the District is a free trick-or-treating event in downtown Columbia for kids 12 and under from 6:00 - 8:00 pm on Halloween night. The event begins at 6:00 pm - no candy will be handed out before this time. </span><br />\n<br />\nPlease call us at (931) 375-4101 or email ksmith@maurycounty-tn.gov if you or your business would like to participate!</span></span>
LOCATION:Downtown Columbia 117 W 7th St Columbia\, TN 38401
UID:e.1832.564348
SEQUENCE:3
DTSTAMP:20260425T172917Z
URL:https://business.mauryalliance.com/events/details/haunting-in-the-district-2023-564348
END:VEVENT

END:VCALENDAR
