BEGIN:VCALENDAR
VERSION:2.0
PRODID:-//ChamberMaster//Event Calendar 2.0//EN
METHOD:PUBLISH
X-PUBLISHED-TTL:P3D
REFRESH-INTERVAL:P3D
CALSCALE:GREGORIAN
BEGIN:VEVENT
DTSTART:20231028T010000Z
DTEND:20231028T040000Z
X-MICROSOFT-CDO-ALLDAYEVENT:FALSE
SUMMARY:Halloween Party with Mixtape
DESCRIPTION:JOIN US FOR THE MIXTAPE HALLOWEEN PARTY AND COSTUME CONTEST! \n\nThis 80's band is hosting the party filled with their electric 80's songs to dance to \, costume contests \, drink specials and more surprises throughout the evening ! \n\nWe loved this band so much that we wanted to party with them for Halloween! Plan your best costume\, grab your friends and we will see you on the dance floor! \n \n\nVIP BALCONY SUITE for up to 8 of your friends! \n\n- Designated server\n\n- Best view in the house!\n\n- Velvet couch and two high top tables \n\n- Charcuterie board from Buck and Board\n \n\nEvent is age 18 and older. Please be prepared to present ID and anyone under 21 will have an X on their hand . Thank you ! \n \n\nFor ADA requests\, please email info@themulehouse.com.
X-ALT-DESC;FMTTYPE=text/html:<p>JOIN US FOR THE MIXTAPE HALLOWEEN PARTY AND COSTUME CONTEST!&nbsp\;</p>\n\n<p>This 80&#39\;s band is hosting the party filled with their electric 80&#39\;s songs to dance to \, costume contests \, drink specials and more surprises throughout the evening !&nbsp\;</p>\n\n<p>We loved this band so much that we wanted to party with them for Halloween! Plan your best costume\, grab your friends and we will see you on the dance floor!&nbsp\;</p>\n&nbsp\;\n\n<p>VIP BALCONY SUITE for up to 8 of your friends!&nbsp\;</p>\n\n<p>- Designated server</p>\n\n<p>- Best view in the house!</p>\n\n<p>- Velvet couch and two high top tables&nbsp\;</p>\n\n<p>- Charcuterie board from Buck and Board</p>\n&nbsp\;\n\n<p>Event is age 18 and older. Please be prepared to present ID and anyone under 21 will have an X on their hand . Thank you !&nbsp\;</p>\n&nbsp\;\n\n<p>For ADA requests\, please email info@themulehouse.com.</p>\n
LOCATION:812 S High St Columbia\, TN 38401
UID:e.1832.564191
SEQUENCE:3
DTSTAMP:20260425T185640Z
URL:https://business.mauryalliance.com/events/details/halloween-party-with-mixtape-564191
END:VEVENT

END:VCALENDAR
