BEGIN:VCALENDAR
VERSION:2.0
PRODID:-//ChamberMaster//Event Calendar 2.0//EN
METHOD:PUBLISH
X-PUBLISHED-TTL:P3D
REFRESH-INTERVAL:P3D
CALSCALE:GREGORIAN
BEGIN:VEVENT
DTSTART:20231010T160000Z
DTEND:20231010T180000Z
X-MICROSOFT-CDO-ALLDAYEVENT:FALSE
SUMMARY:Habitat for Humanity Williamson-Maury
DESCRIPTION:Habitat for Humanity Williamson-Maury invites the community to join us on Tuesday\, October 10th to welcome home the McClain family! De'Sheria McClain and her two children\, Jaiden and Kamiyah\, will be moving into the Atmos Zero Net Energy home. Tennessee's first ZNE home will provide the family with an affordable\, energy-efficient\, and comfortable home that is designed to produce as much energy as it consumes within a year. This home uses natural gas and renewable energy to meet climate goals while reducing energy bills. The home dedication ceremony marks De'Sheria's completion of the Homeownership Program\, including 200 hours of sweat equity\, budget coaching\, and homebuyer education. Surrounded by friends\, family\, and community\, we will bless the home and present the keys to her home.
X-ALT-DESC;FMTTYPE=text/html:Habitat for Humanity Williamson-Maury invites the community to join us on Tuesday\, October 10th to welcome home the McClain family! De&#39\;Sheria McClain and her two children\, Jaiden and Kamiyah\, will be moving into the Atmos Zero Net Energy home. Tennessee&#39\;s first ZNE home will provide the family with an affordable\, energy-efficient\, and comfortable home that is designed to produce as much energy as it consumes within a year. This home uses natural gas and renewable energy to meet climate goals while reducing energy bills. The home dedication ceremony marks De&#39\;Sheria&#39\;s completion of the Homeownership Program\, including 200 hours of sweat equity\, budget coaching\, and homebuyer education. Surrounded by friends\, family\, and community\, we will bless the home and present the keys to her home.
LOCATION:1918 Golden Place Columbia\, TN 389401
UID:e.1832.564217
SEQUENCE:3
DTSTAMP:20260425T185829Z
URL:https://business.mauryalliance.com/events/details/habitat-for-humanity-williamson-maury-564217
END:VEVENT

END:VCALENDAR
