BEGIN:VCALENDAR
VERSION:2.0
PRODID:-//ChamberMaster//Event Calendar 2.0//EN
METHOD:PUBLISH
X-PUBLISHED-TTL:P3D
REFRESH-INTERVAL:P3D
CALSCALE:GREGORIAN
BEGIN:VEVENT
DTSTART:20230922T220000Z
DTEND:20230923T010000Z
X-MICROSOFT-CDO-ALLDAYEVENT:FALSE
SUMMARY:Great Futures Gala
DESCRIPTION:The Boys & Girls Clubs of South Central Tennessee is pleased to present the 2023 Growing Bright Futures Gala. Join us as we celebrate our Club kids! The evening will include cocktails\, live music\, silent and live auction\, dinner and the most exciting part of all....Club kid performances! Don't miss the fun and help us continue to change lives of our community youth! We can't do it without you!
X-ALT-DESC;FMTTYPE=text/html:The Boys &amp\; Girls Clubs of South Central Tennessee is pleased to present the 2023 Growing Bright Futures Gala. Join us as we celebrate our Club kids! The evening will include cocktails\, live music\, silent and live auction\, dinner and the most exciting part of all....Club kid performances! Don&#39\;t miss the fun and help us continue to change lives of our community youth! We can&#39\;t do it without you!
LOCATION:Puckett's downtown Columbia
UID:e.1832.564106
SEQUENCE:3
DTSTAMP:20260425T173754Z
URL:https://business.mauryalliance.com/events/details/great-futures-gala-09-22-2023-564106
END:VEVENT

END:VCALENDAR
