BEGIN:VCALENDAR
VERSION:2.0
PRODID:-//ChamberMaster//Event Calendar 2.0//EN
METHOD:PUBLISH
X-PUBLISHED-TTL:P3D
REFRESH-INTERVAL:P3D
CALSCALE:GREGORIAN
BEGIN:VEVENT
DTSTART:20231118T020000Z
DTEND:20231118T050000Z
X-MICROSOFT-CDO-ALLDAYEVENT:FALSE
SUMMARY:Girls Night Out - An Acoustic Country Rockin' Experience
DESCRIPTION:GIRLS NIGHT OUT\n\nAN ACOUSTIC COUNTRY ROCKIN' EXPERIENCE featuring:\n\n\n	GRETCHEN WILSON\n	Bridgette Tatum\n	Anita Cochran\n	Jessie G\n\n\n \n\nTHIS WILL BE A NIGHT TO REMEMBER HERE AT THE MULEHOUSE! \n\nThese four iconic hit songwriters will be performing their many hits and sharing their stories behind the songs. They have written songs that have become massive hits\, not just for themselves\, but also for the likes of:\n\n\n	Jason Aldean\n	Trisha Yearwood\n	Ashley Cooke\n	Randy Houser\n	George Clinton\n\n\nand many more!\n\n \n\nWant to meet the ladies after the show? \n\nMEET & GREET POST-SHOW EXPERIENCE AVAILABLE FOR $50\n\nOnly thirty tickets available for this special backstage meet and greet with the ladies! \n\nVIP Balcony Suite Available! - SOLD!\n\n\n	Best view in the theatre! \n	Suite accommodates up to eight people!\n	Velvet couch and high top tables with      barstools!\n	Designated server for the evening!\n	Charcuterie board from Buck and Board!\n\n\nCROWN MULE CATERING WILL HAVE THEIR FOOD TRUCK HERE\, OFFERING: \n\n\n	PULLED PORK SLIDERS\n	FAJITA BURRITO\n	CAESAR WRAP\n	CHEESE CURDS\n	PAREMESAN TRUFFLE FRIES\n	BAHN MI SLIDERS\n	HOUSE CIHIPS\n	CEVICHE PIPPA \n\n\n \n\nFor ADA requests\, please email info@themulehouse.com.
X-ALT-DESC;FMTTYPE=text/html:<p><span style="font-family:robotobold\,helvetica\,arial\,sans-serif">GIRLS NIGHT OUT</span></p>\n\n<p><span style="font-family:robotobold\,helvetica\,arial\,sans-serif">AN&nbsp\;ACOUSTIC COUNTRY ROCKIN&#39\; EXPERIENCE featuring:</span></p>\n\n<ul>\n	<li><span style="font-family:robotobold\,helvetica\,arial\,sans-serif">GRETCHEN WILSON</span></li>\n	<li><span style="font-family:robotobold\,helvetica\,arial\,sans-serif">Bridgette Tatum</span></li>\n	<li><span style="font-family:robotobold\,helvetica\,arial\,sans-serif">Anita Cochran</span></li>\n	<li><span style="font-family:robotobold\,helvetica\,arial\,sans-serif">Jessie G</span></li>\n</ul>\n\n<p>&nbsp\;</p>\n\n<p><span style="font-family:robotobold\,helvetica\,arial\,sans-serif">THIS WILL BE A NIGHT TO REMEMBER HERE AT THE MULEHOUSE!&nbsp\;</span></p>\n\n<p>These four iconic hit songwriters will be performing their many hits and sharing their stories behind the songs. They have written songs that have become massive hits\, not just for themselves\, but also for the likes of:</p>\n\n<ul>\n	<li>Jason Aldean</li>\n	<li>Trisha Yearwood</li>\n	<li>Ashley Cooke</li>\n	<li>Randy Houser</li>\n	<li>George Clinton</li>\n</ul>\n\n<p>and many more!</p>\n\n<p>&nbsp\;</p>\n\n<p><em>Want to meet the ladies after the show?&nbsp\;</em></p>\n\n<p><span style="font-family:robotobold\,helvetica\,arial\,sans-serif">MEET &amp\; GREET POST-SHOW EXPERIENCE AVAILABLE FOR $50</span></p>\n\n<p>Only thirty tickets available for this special backstage meet and greet with the ladies!&nbsp\;</p>\n\n<p><span style="font-family:robotobold\,helvetica\,arial\,sans-serif">VIP Balcony Suite Available! - SOLD!</span></p>\n\n<ul>\n	<li>Best view in the theatre!&nbsp\;</li>\n	<li>Suite accommodates up to eight people!</li>\n	<li>Velvet couch and high top tables with &nbsp\; &nbsp\; &nbsp\;barstools!</li>\n	<li>Designated server for the evening!</li>\n	<li>Charcuterie board from Buck and Board!</li>\n</ul>\n\n<p><span style="font-family:robotobold\,helvetica\,arial\,sans-serif">CROWN MULE CATERING WILL HAVE THEIR FOOD TRUCK HERE\, OFFERING:</span>&nbsp\;</p>\n\n<ul>\n	<li>PULLED PORK SLIDERS</li>\n	<li>FAJITA BURRITO</li>\n	<li>CAESAR WRAP</li>\n	<li>CHEESE CURDS</li>\n	<li>PAREMESAN TRUFFLE FRIES</li>\n	<li>BAHN MI SLIDERS</li>\n	<li>HOUSE CIHIPS</li>\n	<li>CEVICHE PIPPA&nbsp\;</li>\n</ul>\n\n<div>&nbsp\;</div>\n\n<p>For ADA requests\, please email info@themulehouse.com.</p>\n
LOCATION:The Mulehouse in Columbia\, TN 812 S High St Columbia\, TN 38401
UID:e.1832.564192
SEQUENCE:3
DTSTAMP:20260425T190117Z
URL:https://business.mauryalliance.com/events/details/girls-night-out-an-acoustic-country-rockin-experience-564192
END:VEVENT

END:VCALENDAR
