BEGIN:VCALENDAR
VERSION:2.0
PRODID:-//ChamberMaster//Event Calendar 2.0//EN
METHOD:PUBLISH
X-PUBLISHED-TTL:P3D
REFRESH-INTERVAL:P3D
CALSCALE:GREGORIAN
BEGIN:VEVENT
DTSTART:20220818T150000Z
DTEND:20220818T210000Z
X-MICROSOFT-CDO-ALLDAYEVENT:FALSE
SUMMARY:Food Trucks\, Tunes & Technology
DESCRIPTION:Please join us for our first annual Food Trucks\, Tunes & Technology Showcase\n\nYou are invited to join us for this exclusive event featuring industry-leading experts and technology solutions that Novatech provides.\n\n\n\n\n\n\n\n\n\n\n\n\n\n\n\n\n\n\nAttend these micro sessions listed to be entered to win special prizes!\n\n1. How Outsourcing Portions of Your IT Services Is Safe\, Secure\, and Solid with Novatech Managed Services\n\n2. Enterprise Print Security. The benefits of an enterprise print security strategy.\n\n3. Why Outsourcing your desktop printer support with one unified service provider aligns with your operational goals for efficiency and cost reductions\n\n4. Live Demo. Learn how a cost-efficient multifunctional device (C165) can deliver the velocity and image quality of a production system.\n\n\n\nSpots are limited. RVSP today to save yours!
X-ALT-DESC;FMTTYPE=text/html:&nbsp\;\n<div class="row-fluid-wrapper row-depth-1 row-number-3 dnd-row" style="box-sizing: border-box\; color: rgb(0\, 50\, 109)\; font-family: &quot\;Nunito Sans&quot\;\, sans-serif\; font-size: 16px\; flex-shrink: 0 !important\;">\n<div class="row-fluid " style="box-sizing: border-box\; width: 593.328px\;">\n<div class="span12 widget-span widget-type-custom_widget dnd-module" data-w="12" data-widget-type="custom_widget" data-x="0" style="box-sizing: border-box\; float: left\; width: 593.328px\; min-height: 1px\; margin-left: 0px\;">\n<div class="hs_cos_wrapper hs_cos_wrapper_widget hs_cos_wrapper_type_module widget-type-rich_text widget-type-rich_text" data-hs-cos-general-type="widget" data-hs-cos-type="module" id="hs_cos_wrapper_dnd_area-module-7" style="box-sizing: border-box\;">\n<p style="box-sizing: border-box\; font-size: 24px\; margin: 0px 0px 1.5rem\; font-weight: bold\; text-align: center\; line-height: 1.5\;"><span class="hs_cos_wrapper hs_cos_wrapper_widget hs_cos_wrapper_type_rich_text" data-hs-cos-general-type="widget" data-hs-cos-type="rich_text" id="hs_cos_wrapper_dnd_area-module-7_" style="box-sizing: border-box\;"><span style="box-sizing: border-box\; font-size: 32px\;">Please join us for our first annual&nbsp\;</span><span style="box-sizing: border-box\; font-size: 32px\;">Food Trucks\, Tunes &amp\; Technology Showcase</span></span></p>\n\n<p style="box-sizing: border-box\; font-size: 20px\; margin: 0px 0px 1.5rem\; text-align: center\;"><span class="hs_cos_wrapper hs_cos_wrapper_widget hs_cos_wrapper_type_rich_text" data-hs-cos-general-type="widget" data-hs-cos-type="rich_text" id="hs_cos_wrapper_dnd_area-module-7_" style="box-sizing: border-box\;">You are invited to join us for this exclusive event featuring industry-leading experts and technology solutions that Novatech provides.</span></p>\n</div>\n</div>\n</div>\n</div>\n\n<div class="row-fluid-wrapper row-depth-1 row-number-4 dnd-row" style="box-sizing: border-box\; color: rgb(0\, 50\, 109)\; font-family: &quot\;Nunito Sans&quot\;\, sans-serif\; font-size: 16px\; flex-shrink: 0 !important\;">\n<div class="row-fluid " style="box-sizing: border-box\; width: 593.328px\;">\n<div class="span12 widget-span widget-type-custom_widget dnd-module" data-w="12" data-widget-type="custom_widget" data-x="0" style="box-sizing: border-box\; float: left\; width: 593.328px\; min-height: 1px\; margin-left: 0px\;">\n<div class="hs_cos_wrapper hs_cos_wrapper_widget hs_cos_wrapper_type_module" data-hs-cos-general-type="widget" data-hs-cos-type="module" id="hs_cos_wrapper_widget_1655385612235" style="box-sizing: border-box\; padding-bottom: 21px !important\; padding-top: 23px !important\;">\n<hr style="box-sizing: content-box\; height: 0px\; overflow: visible\; border-top: 0px none\; border-bottom: 1px solid rgb(0\, 0\, 0)\; border-right-style: none\; border-left-style: none\; width: 504.328px\; margin: 0px auto\;" /></div>\n</div>\n</div>\n</div>\n\n<div class="row-fluid-wrapper row-depth-1 row-number-5 dnd-row" style="box-sizing: border-box\; color: rgb(0\, 50\, 109)\; font-family: &quot\;Nunito Sans&quot\;\, sans-serif\; font-size: 16px\; flex-shrink: 0 !important\;">\n<div class="row-fluid " style="box-sizing: border-box\; width: 593.328px\;">\n<div class="span12 widget-span widget-type-custom_widget dnd-module" data-w="12" data-widget-type="custom_widget" data-x="0" style="box-sizing: border-box\; float: left\; width: 593.328px\; min-height: 1px\; margin-left: 0px\;">\n<div class="hs_cos_wrapper hs_cos_wrapper_widget hs_cos_wrapper_type_module widget-type-rich_text" data-hs-cos-general-type="widget" data-hs-cos-type="module" id="hs_cos_wrapper_widget_1655385618662" style="box-sizing: border-box\; padding-top: 26px !important\;">\n<p style="box-sizing: border-box\; font-size: 20px\; margin: 0px 0px 1.5rem\; font-weight: bold\; text-align: center\;"><span class="hs_cos_wrapper hs_cos_wrapper_widget hs_cos_wrapper_type_rich_text" data-hs-cos-general-type="widget" data-hs-cos-type="rich_text" id="hs_cos_wrapper_widget_1655385618662_" style="box-sizing: border-box\;">Attend these micro sessions listed to be entered to win special prizes!</span></p>\n\n<p style="box-sizing: border-box\; font-size: 18px\; margin: 0px 0px 1.5rem\;"><span class="hs_cos_wrapper hs_cos_wrapper_widget hs_cos_wrapper_type_rich_text" data-hs-cos-general-type="widget" data-hs-cos-type="rich_text" id="hs_cos_wrapper_widget_1655385618662_" style="box-sizing: border-box\;">1. How Outsourcing Portions of Your IT Services Is Safe\, Secure\, and Solid with Novatech Managed Services</span></p>\n\n<p style="box-sizing: border-box\; font-size: 18px\; margin: 0px 0px 1.5rem\;"><span class="hs_cos_wrapper hs_cos_wrapper_widget hs_cos_wrapper_type_rich_text" data-hs-cos-general-type="widget" data-hs-cos-type="rich_text" id="hs_cos_wrapper_widget_1655385618662_" style="box-sizing: border-box\;">2. Enterprise Print Security. The benefits of an enterprise print security strategy.</span></p>\n\n<p style="box-sizing: border-box\; font-size: 18px\; margin: 0px 0px 1.5rem\;"><span class="hs_cos_wrapper hs_cos_wrapper_widget hs_cos_wrapper_type_rich_text" data-hs-cos-general-type="widget" data-hs-cos-type="rich_text" id="hs_cos_wrapper_widget_1655385618662_" style="box-sizing: border-box\;">3. Why Outsourcing your desktop printer support with one unified service provider aligns with your operational goals for efficiency and cost reductions</span></p>\n\n<p style="box-sizing: border-box\; font-size: 18px\; margin: 0px 0px 1.5rem\;"><span class="hs_cos_wrapper hs_cos_wrapper_widget hs_cos_wrapper_type_rich_text" data-hs-cos-general-type="widget" data-hs-cos-type="rich_text" id="hs_cos_wrapper_widget_1655385618662_" style="box-sizing: border-box\;">4. Live Demo. Learn how a cost-efficient multifunctional device (C165) can deliver the velocity and image quality of a production system.</span><br />\n<br />\n<span style="color: rgb(0\, 50\, 109)\; font-family: &quot\;Nunito Sans&quot\;\, sans-serif\; font-size: 24px\; font-weight: 700\; text-align: center\;">Spots are limited. <a href="https://hub.novatech.net/techshowcase">RVSP today</a> to save yours!</span><span style="color: rgb(0\, 50\, 109)\; font-family: &quot\;Nunito Sans&quot\;\, sans-serif\; font-size: 24px\; font-weight: 700\; text-align: center\;">&#8203\;</span><span class="hs_cos_wrapper hs_cos_wrapper_widget hs_cos_wrapper_type_rich_text" data-hs-cos-general-type="widget" data-hs-cos-type="rich_text" style="color: rgb(0\, 50\, 109)\; font-family: &quot\;Nunito Sans&quot\;\, sans-serif\; font-size: 24px\; font-weight: 700\; text-align: center\; box-sizing: border-box\;"><span style="box-sizing: border-box\; font-size: 32px\;">&nbsp\;</span></span></p>\n</div>\n</div>\n</div>\n</div>\n
LOCATION:2434 Atrium Way Nashville\, TN 37214
UID:e.1832.563557
SEQUENCE:3
DTSTAMP:20260424T205535Z
URL:https://business.mauryalliance.com/events/details/food-trucks-tunes-technology-563557
END:VEVENT

END:VCALENDAR
