BEGIN:VCALENDAR
VERSION:2.0
PRODID:-//ChamberMaster//Event Calendar 2.0//EN
METHOD:PUBLISH
X-PUBLISHED-TTL:P3D
REFRESH-INTERVAL:P3D
CALSCALE:GREGORIAN
BEGIN:VEVENT
DTSTART:20240113T020000Z
DTEND:20240113T040000Z
X-MICROSOFT-CDO-ALLDAYEVENT:FALSE
SUMMARY:End of the Line
DESCRIPTION:-This Allman Brothers Tribute Band is one of our favorite shows here at The Mulehouse!  \n\nThis band has a sound as classic and heavy as the original brothers themselves. They carry on the legacy with poise and power... come experience the soul\, the guitarmony\, the jam\, and the rambling' spirit that still lives on through each note   you don't want to miss this epic evening! \n \n\nVIP SUITE for 6-8 people is available ! \n\n-Best view in the house\n\n- Dedicated bar server\n\n- Charcuterie Board \n\n- Velvet couch and two high top tables for seating\n\n- Stand or seated\, this is the coolest place to watch the show and enjoy your friends/family! \n\n\n\n \n\nFor ADA requests\, please email info@themulehouse.com.
X-ALT-DESC;FMTTYPE=text/html:<p>-This&nbsp\;<span style="font-family:robotobold\,helvetica\,arial\,sans-serif">Allman Brothers Tribute Band&nbsp\;</span>is one of our favorite shows here at The Mulehouse! &nbsp\;</p>\n\n<p>This band has a sound as classic and heavy as the original brothers themselves. They carry on the legacy with poise and power... come experience the soul\, the guitarmony\, the jam\, and the rambling&#39\; spirit that still lives on through each note &ndash\; you don&#39\;t want to miss this epic evening!&nbsp\;</p>\n&nbsp\;\n\n<p><span style="font-family:robotobold\,helvetica\,arial\,sans-serif">VIP SUITE for 6-8 people is available !&nbsp\;</span></p>\n\n<p>-Best view in the house</p>\n\n<p>- Dedicated bar server</p>\n\n<p>- Charcuterie Board&nbsp\;</p>\n\n<p>- Velvet couch and two high top tables for seating</p>\n\n<p>- Stand or seated\, this is the coolest place to watch the show and enjoy your friends/family!&nbsp\;</p>\n\n<p><br />\n&nbsp\;</p>\n\n<p>For ADA requests\, please email info@themulehouse.com.</p>\n
LOCATION:The Mulehouse 812 S High St Columbia\, TN 38401
UID:e.1832.564361
SEQUENCE:3
DTSTAMP:20260425T232502Z
URL:https://business.mauryalliance.com/events/details/end-of-the-line-564361
END:VEVENT

END:VCALENDAR
