BEGIN:VCALENDAR
VERSION:2.0
PRODID:-//ChamberMaster//Event Calendar 2.0//EN
METHOD:PUBLISH
X-PUBLISHED-TTL:P3D
REFRESH-INTERVAL:P3D
CALSCALE:GREGORIAN
BEGIN:VEVENT
DTSTART:20230925T220000Z
DTEND:20230926T000000Z
X-MICROSOFT-CDO-ALLDAYEVENT:FALSE
SUMMARY:Elected Officials Picnic
DESCRIPTION:Join us for a BBQ picnic at the Woodland Park Rotary Shelter on Monday\, September 25th!\n\n\n\nMaury Alliance\, with support from TVA is hosting this free picnic to show our appreciation for the time and effort elected officials dedicate to making our community the best place to live and work.\n\n\n\nThis event is also an opportunity for our members to come together in a casual environment and visit with Maury County's Elected Officials.
X-ALT-DESC;FMTTYPE=text/html:<span style="font-size:16px\;"><span style="font-family:arial\;">Join us for a BBQ picnic at the Woodland Park Rotary Shelter on Monday\, September 25th!<br />\n<br />\nMaury Alliance\, with support from TVA is hosting this free picnic to show our appreciation for the time and effort elected officials dedicate to making our community the best place to live and work.<br />\n<br />\nThis event is also an opportunity for our members to come together in a casual environment and visit with Maury County&#39\;s Elected Officials.&nbsp\;</span></span>
LOCATION:Woodland Park - Rotary Shelter 821 W 9th Street\, Columbia\, TN
UID:e.1832.564152
SEQUENCE:3
DTSTAMP:20260425T172750Z
URL:https://business.mauryalliance.com/events/details/elected-officials-picnic-564152
END:VEVENT

END:VCALENDAR
