BEGIN:VCALENDAR
VERSION:2.0
PRODID:-//ChamberMaster//Event Calendar 2.0//EN
METHOD:PUBLISH
X-PUBLISHED-TTL:P3D
REFRESH-INTERVAL:P3D
CALSCALE:GREGORIAN
BEGIN:VEVENT
DTSTART:20230930T010000Z
DTEND:20230930T040000Z
X-MICROSOFT-CDO-ALLDAYEVENT:FALSE
SUMMARY:EAGLEMANIACS
DESCRIPTION:Eagles Tribute Band A Mulehouse favorite   Some of Nashville's finest musicians performing Eagles & Don Henley hits with exceptional musical precision
X-ALT-DESC;FMTTYPE=text/html:Eagles Tribute Band A Mulehouse favorite &bull\; Some of Nashville&rsquo\;s finest musicians performing Eagles &amp\; Don Henley hits with exceptional musical precision
LOCATION:THE MULEHOUSE
UID:e.1832.564079
SEQUENCE:3
DTSTAMP:20260425T172720Z
URL:https://business.mauryalliance.com/events/details/eaglemaniacs-564079
END:VEVENT

END:VCALENDAR
