BEGIN:VCALENDAR
VERSION:2.0
PRODID:-//ChamberMaster//Event Calendar 2.0//EN
METHOD:PUBLISH
X-PUBLISHED-TTL:P3D
REFRESH-INTERVAL:P3D
CALSCALE:GREGORIAN
BEGIN:VEVENT
DTSTART:20231119T020000Z
DTEND:20231119T050000Z
X-MICROSOFT-CDO-ALLDAYEVENT:FALSE
SUMMARY:Eaglemaniacs
DESCRIPTION:A MULEHOUSE FAVORITE!!! \n\nTHIS SHOW IS ALWAYS A SELL OUT SO GET YOUR TICKETS NOW! YOU WILL BE A FAN FOR LIFE! \n\nAbout the Eaglemaniacs: \n\nThe Eaglemanics is comprised of a group of professional studio musicians who passionately perform the music of the Eagles & Don Henley with exceptional musical precision. They have quickly become one of the most popular bands in Nashville and surrounding area! \n\n \n\nVIP Balcony Suite available for 6-8 people! \n\nThis has the best view in the house and you and your friends will enjoy : \n\n- designated server for the evening \n\n- charcuterie board from Buck and Board\n\n- Velvet couch for four and two hightop tables with two seats each\n\n- You can hang out and walk around or stay seated...up to you!
X-ALT-DESC;FMTTYPE=text/html:<p><span style="font-family:robotobold\,helvetica\,arial\,sans-serif">A MULEHOUSE FAVORITE!!!&nbsp\;</span></p>\n\n<p><span style="font-family:robotobold\,helvetica\,arial\,sans-serif">THIS SHOW IS ALWAYS A SELL OUT SO GET YOUR TICKETS NOW! YOU WILL BE A FAN FOR LIFE!&nbsp\;</span></p>\n\n<p><span style="font-family:robotobold\,helvetica\,arial\,sans-serif">About the Eaglemaniacs:&nbsp\;</span></p>\n\n<p><span style="font-family:robotobold\,helvetica\,arial\,sans-serif">The Eaglemanics is comprised of a&nbsp\;group of&nbsp\;professional studio musicians who&nbsp\;passionately perform the music of the Eagles &amp\; Don Henley with exceptional musical precision. They have quickly become one of the&nbsp\;most popular bands in Nashville and surrounding area!&nbsp\;</span></p>\n\n<p>&nbsp\;</p>\n\n<p><span style="font-family:robotobold\,helvetica\,arial\,sans-serif">VIP Balcony Suite&nbsp\;available for 6-8 people!&nbsp\;</span></p>\n\n<p><span style="font-family:robotobold\,helvetica\,arial\,sans-serif">This has the best view in the house and you and your friends will&nbsp\;enjoy :&nbsp\;</span></p>\n\n<p><span style="font-family:robotobold\,helvetica\,arial\,sans-serif">- designated server for the evening&nbsp\;</span></p>\n\n<p><span style="font-family:robotobold\,helvetica\,arial\,sans-serif">- charcuterie board from Buck and Board</span></p>\n\n<p><span style="font-family:robotobold\,helvetica\,arial\,sans-serif">- Velvet couch for four and&nbsp\;</span><span style="font-family:robotobold\,helvetica\,arial\,sans-serif">two hightop tables with two seats each</span></p>\n\n<p><span style="font-family:robotobold\,helvetica\,arial\,sans-serif">- You can&nbsp\;hang out and&nbsp\;walk around or stay seated...up to you!&nbsp\;</span></p>\n
LOCATION:THE MULEHOUSE
UID:e.1832.564153
SEQUENCE:3
DTSTAMP:20260425T202636Z
URL:https://business.mauryalliance.com/events/details/eaglemaniacs-08-29-2023-564153
END:VEVENT

END:VCALENDAR
