BEGIN:VCALENDAR
VERSION:2.0
PRODID:-//ChamberMaster//Event Calendar 2.0//EN
METHOD:PUBLISH
X-PUBLISHED-TTL:P3D
REFRESH-INTERVAL:P3D
CALSCALE:GREGORIAN
BEGIN:VEVENT
DTSTART:20231219T060000Z
DTEND:20231220T010000Z
X-MICROSOFT-CDO-ALLDAYEVENT:FALSE
SUMMARY:Donelson Friends & Family
DESCRIPTION:Hello friends & family! \n\n \n\nWe are opening in Donelson next week and would like to invite you all to help us train our new crew and put them to the test. Here are the details: \n\n \n\n2418 Lebanon Pike Nashville\, TN\n\nTuesday\, December 19th\n\n12-7pm (come anytime!)\n\n50% off whole menu??\n\n \n\nWe plan to soft-open on Wednesday\, December 20th! We will have free cones with a double scoop and an opportunity to enter to win a free 6 pack of ice cream pints. \n\n \n\n\nStay tuned for our ribbon cutting after the new year
X-ALT-DESC;FMTTYPE=text/html:<div><br />\nHello friends &amp\; family!&nbsp\;</div>\n\n<div>&nbsp\;</div>\n\n<div>We are opening in Donelson next week and would like to invite you all to help us train our new crew and put them to the test. Here are the details:&nbsp\;</div>\n\n<div>&nbsp\;</div>\n\n<div><strong><a href="http://2418 Lebanon Pike\, Nashville\, TN 37214">2418 Lebanon Pike Nashville\, TN</a></strong></div>\n\n<div><strong><span dir="ltr">Tuesday\, December 19th</span></strong></div>\n\n<div><strong><span dir="ltr">12-7pm</span>&nbsp\;(come anytime!)</strong></div>\n\n<div><strong>50% off whole menu</strong>??</div>\n\n<div>&nbsp\;</div>\n\n<div>We plan to soft-open&nbsp\;<span dir="ltr">on Wednesday\, December 20th</span>! We will have free cones with a double scoop and an opportunity to enter to win a&nbsp\;<u>free&nbsp\;6 pack of ice cream pints</u>.&nbsp\;</div>\n\n<p>&nbsp\;</p>\n<br />\nStay tuned for our ribbon cutting after the new year&nbsp\;
LOCATION:2418 Lebanon Pike
UID:e.1832.564570
SEQUENCE:3
DTSTAMP:20260425T202817Z
URL:https://business.mauryalliance.com/events/details/donelson-friends-family-564570
END:VEVENT

END:VCALENDAR
