BEGIN:VCALENDAR
VERSION:2.0
PRODID:-//ChamberMaster//Event Calendar 2.0//EN
METHOD:PUBLISH
X-PUBLISHED-TTL:P3D
REFRESH-INTERVAL:P3D
CALSCALE:GREGORIAN
BEGIN:VEVENT
DTSTART;VALUE=DATE:20230917
DTEND;VALUE=DATE:20230918
TRANSP:TRANSPARENT
X-MICROSOFT-CDO-ALLDAYEVENT:TRUE
SUMMARY:Diaper Drive at Hattie Jane’s Scoop Shops
DESCRIPTION:Sept. 17 kicks off is Diaper Need Awareness Week\, which draws attention to diaper need in the U.S.\, a community initiative close to the heart of Hattie Jane's Creamery Founder & CEO and mother of two Claire Crowell. That said\, Hattie Jane's is partnering with Nashville Diaper Connection to host a two-week diaper drive\, Sept. 17 - 30\, at all Hattie Jane's scoop shops to collect diapers to help combat diaper need in Middle Tennessee. The diapers will go directly to Nashville Diaper Connection\, which distributes donations to local families struggling to afford diapers. The organization needs sizes 4\, 5 and 6 in particular\, but all sizes will be accepted. Additionally\, anyone who brings diapers into a Hattie Jane's scoop shop during the drive will receive 15 percent off their in-store order.
X-ALT-DESC;FMTTYPE=text/html:<span style="color:#008080\;"><span style="font-size:16px\;"><span style="font-family:comic sans ms\;">Sept. 17 kicks off is Diaper Need Awareness Week\, which draws attention to diaper need in the U.S.\, a community initiative close to the heart of Hattie Jane&#39\;s Creamery Founder &amp\; CEO&mdash\;and mother of two&mdash\;Claire Crowell. That said\, Hattie Jane&#39\;s is partnering with Nashville Diaper Connection to host a two-week diaper drive\, Sept. 17 - 30\, at all Hattie Jane&#39\;s scoop shops to collect diapers to help combat diaper need in Middle Tennessee. The diapers will go directly to Nashville Diaper Connection\, which distributes donations to local families struggling to afford diapers. The organization needs sizes 4\, 5 and 6 in particular\, but all sizes will be accepted. Additionally\, <u>anyone who brings diapers into a Hattie Jane&#39\;s scoop shop during the drive will receive 15 percent off their in-store order.</u></span></span></span>
LOCATION:Hattie Jane's Creamery - Downtown Columbia 16 Public Square\, Columbia\, TN
UID:e.1832.564166
SEQUENCE:3
DTSTAMP:20260425T174032Z
URL:https://business.mauryalliance.com/events/details/diaper-drive-at-hattie-jane-s-scoop-shops-564166
END:VEVENT

END:VCALENDAR
