BEGIN:VCALENDAR
VERSION:2.0
PRODID:-//ChamberMaster//Event Calendar 2.0//EN
METHOD:PUBLISH
X-PUBLISHED-TTL:P3D
REFRESH-INTERVAL:P3D
CALSCALE:GREGORIAN
BEGIN:VEVENT
DTSTART:20240207T200000Z
DTEND:20240208T010000Z
X-MICROSOFT-CDO-ALLDAYEVENT:FALSE
SUMMARY:Day on The Hill
DESCRIPTION:Engage and hear from state lawmakers on education\, state budget\, transportation\, and issues of importance to your business and our community\, plus Governor Bill Lee's school voucher proposal.\n\n\n\nJoin Williamson\, Inc.\, Maury Alliance\, and Spring Hill Chamber of Commerce the afternoon of Wednesday\, Feb. 7 at the Cordell Hull State Office Building. Once the initial portion concludes\, our group will convene for a legislative reception at Deacons New South.\n\n\n\nAgenda to follow\n\n\n\n2:00 PM\n\nHear from legislators at Cordell Hull Building\n\n\n\n4:30 PM\n\nLegislative reception at Deacon's New South
X-ALT-DESC;FMTTYPE=text/html:<span style="color: rgb(17\, 17\, 17)\; font-family: &quot\;Open Sans&quot\;\, Arial\, Helvetica\, sans-serif\; font-size: 14px\;">Engage and hear from state lawmakers on education\, state budget\, transportation\, and issues of importance to your business and our community\, plus Governor Bill Lee&rsquo\;s school voucher proposal.<br />\n<br />\nJoin Williamson\, Inc.\, Maury Alliance\, and Spring Hill Chamber of Commerce the afternoon of Wednesday\, Feb. 7 at the Cordell Hull State Office Building.&nbsp\;</span><span style="color: rgb(17\, 17\, 17)\; font-family: &quot\;Open Sans&quot\;\, Arial\, Helvetica\, sans-serif\; font-size: 14px\;">Once the initial portion concludes\, our group will convene for a legislative reception at Deacons New South.</span><br style="margin: 0px\; padding: 0px\; box-sizing: border-box\; color: rgb(17\, 17\, 17)\; font-family: &quot\;Open Sans&quot\;\, Arial\, Helvetica\, sans-serif\; font-size: 14px\;" />\n<br style="margin: 0px\; padding: 0px\; box-sizing: border-box\; color: rgb(17\, 17\, 17)\; font-family: &quot\;Open Sans&quot\;\, Arial\, Helvetica\, sans-serif\; font-size: 14px\;" />\n<span style="color: rgb(17\, 17\, 17)\; font-family: &quot\;Open Sans&quot\;\, Arial\, Helvetica\, sans-serif\; font-size: 14px\;"><em>Agenda to follow</em></span><br />\n<br style="margin: 0px\; padding: 0px\; box-sizing: border-box\; color: rgb(17\, 17\, 17)\; font-family: &quot\;Open Sans&quot\;\, Arial\, Helvetica\, sans-serif\; font-size: 14px\;" />\n<span style="margin: 0px\; padding: 0px\; font-weight: bolder\; box-sizing: border-box\; color: rgb(17\, 17\, 17)\; font-family: &quot\;Open Sans&quot\;\, Arial\, Helvetica\, sans-serif\; font-size: 14px\;">2:00 PM</span><br style="margin: 0px\; padding: 0px\; box-sizing: border-box\; color: rgb(17\, 17\, 17)\; font-family: &quot\;Open Sans&quot\;\, Arial\, Helvetica\, sans-serif\; font-size: 14px\;" />\n<span style="color: rgb(17\, 17\, 17)\; font-family: &quot\;Open Sans&quot\;\, Arial\, Helvetica\, sans-serif\; font-size: 14px\;">Hear from legislators at Cordell Hull Building</span><br />\n<br style="margin: 0px\; padding: 0px\; box-sizing: border-box\; color: rgb(17\, 17\, 17)\; font-family: &quot\;Open Sans&quot\;\, Arial\, Helvetica\, sans-serif\; font-size: 14px\;" />\n<span style="margin: 0px\; padding: 0px\; font-weight: bolder\; box-sizing: border-box\; color: rgb(17\, 17\, 17)\; font-family: &quot\;Open Sans&quot\;\, Arial\, Helvetica\, sans-serif\; font-size: 14px\;">4:30 PM</span><br style="margin: 0px\; padding: 0px\; box-sizing: border-box\; color: rgb(17\, 17\, 17)\; font-family: &quot\;Open Sans&quot\;\, Arial\, Helvetica\, sans-serif\; font-size: 14px\;" />\n<span style="color: rgb(17\, 17\, 17)\; font-family: &quot\;Open Sans&quot\;\, Arial\, Helvetica\, sans-serif\; font-size: 14px\;">Legislative reception at Deacon&#39\;s New South</span>
LOCATION:Cordell Hull State Office Building 425 5th Ave N 8th Floor Nashville\, TN 37219 LEGISLATIVE RECEPTION Deacon's New South 401 Church St Nashville\, TN 37219
UID:e.1832.564613
SEQUENCE:3
DTSTAMP:20260425T232437Z
URL:https://business.mauryalliance.com/events/details/day-on-the-hill-564613
END:VEVENT

END:VCALENDAR
