BEGIN:VCALENDAR
VERSION:2.0
PRODID:-//ChamberMaster//Event Calendar 2.0//EN
METHOD:PUBLISH
X-PUBLISHED-TTL:P3D
REFRESH-INTERVAL:P3D
CALSCALE:GREGORIAN
BEGIN:VEVENT
DTSTART:20240106T013000Z
DTEND:20240106T040000Z
X-MICROSOFT-CDO-ALLDAYEVENT:FALSE
SUMMARY:Country Dance Night - Urban Cowboy Line Dancing
DESCRIPTION:Kick off the NEW YEAR dancing the night away with the Urban Cowboy Line Dancing team! \n\nIt's time to celebrate and bring your friends and family out to learn all the latest line dances as well as our all time favorites. All levels will enjoy this night of dancing and celebrating 2024! \n\nFor ADA requests\, please email info@themulehouse.com.
X-ALT-DESC;FMTTYPE=text/html:<p>Kick off the NEW YEAR dancing the night away with the Urban Cowboy Line Dancing team!&nbsp\;</p>\n\n<p>It&#39\;s time to celebrate and bring your friends and family out to learn all the latest line dances as well as our all time favorites. All levels will enjoy this night of dancing and celebrating 2024!&nbsp\;</p>\n\n<p>For ADA requests\, please email info@themulehouse.com.</p>\n
LOCATION:The Mulehouse 812 S High St Columbia\, TN 38401
UID:e.1832.564569
SEQUENCE:3
DTSTAMP:20260425T220510Z
URL:https://business.mauryalliance.com/events/details/country-dance-night-urban-cowboy-line-dancing-01-05-2024-564569
END:VEVENT

END:VCALENDAR
