BEGIN:VCALENDAR
VERSION:2.0
PRODID:-//ChamberMaster//Event Calendar 2.0//EN
METHOD:PUBLISH
X-PUBLISHED-TTL:P3D
REFRESH-INTERVAL:P3D
CALSCALE:GREGORIAN
BEGIN:VEVENT
DTSTART:20230902T003000Z
DTEND:20230902T040000Z
X-MICROSOFT-CDO-ALLDAYEVENT:FALSE
SUMMARY:COUNTRY DANCE NIGHT
DESCRIPTION:Learn the latest new line dances with the Urban Cowboy Line Dancers! Your instructors know how to create a fun evening of learning\, dancing and having a great time! This is our first Friday night\, which means we can go until at least 10:30 or possibly 11:00 if we have a great crowd! Grab your friends and come on out!
X-ALT-DESC;FMTTYPE=text/html:<span style="background-color:rgb(255\, 255\, 255)\; font-family:montserrat\,helvetica\,arial\,lucida\,sans-serif\; font-size:15px">Learn the latest new line dances with the Urban Cowboy Line Dancers! Your instructors know how to create a fun evening of learning\, dancing and having a great time! This is our first Friday night\, which means we can go until at least 10:30 or possibly 11:00 if we have a great crowd! Grab your friends and come on out!</span>
LOCATION:THE MULEHOUSE
UID:e.1832.564149
SEQUENCE:3
DTSTAMP:20260425T173754Z
URL:https://business.mauryalliance.com/events/details/country-dance-night-09-01-2023-564149
END:VEVENT

END:VCALENDAR
