BEGIN:VCALENDAR
VERSION:2.0
PRODID:-//ChamberMaster//Event Calendar 2.0//EN
METHOD:PUBLISH
X-PUBLISHED-TTL:P3D
REFRESH-INTERVAL:P3D
CALSCALE:GREGORIAN
BEGIN:VEVENT
DTSTART:20231217T020000Z
DTEND:20231217T040000Z
X-MICROSOFT-CDO-ALLDAYEVENT:FALSE
SUMMARY:Christmas with Craig Wayne Boyd
DESCRIPTION:Christmas with Craig Wayne Boyd is going to be such an amazing show as he performs his favorite Christmas songs and of course\, some of his hits we all know and love! \n\nCraig is best known as winning season 7 of NBC's reality TV singing competition The Voice as a part of Blake Shelton's team. \n\nCraig will be joined by his special guests which we will begin announcing  more soon! \n\nFIRST SPECIAL GUEST ANNOUNCEMENT! \n\nTODD TILGHMAN! SEASON 18 WINNER OF THE VOICE FROM TEAM BLAKE SHELTON! \n\nThis night will be magical and a wonderful reflection of the holidays ...join us at The Mulehouse for this specular Christmas show! \n\nThis is an 18 and up event unless accompanied by a parent or guardian. \n\nFor ADA requests\, please email info@themulehouse.com.
X-ALT-DESC;FMTTYPE=text/html:<p><span style="font-family:robotobold\,helvetica\,arial\,sans-serif"><em>Christmas with Craig Wayne Boyd</em>&nbsp\;</span>is going to be such an amazing show as he performs his favorite Christmas songs and of course\, some of his hits we all know and love!&nbsp\;</p>\n\n<p>Craig is best known as winning season 7 of NBC&#39\;s reality TV singing competition The Voice as a part of Blake Shelton&#39\;s team.&nbsp\;</p>\n\n<p>Craig will be joined by his special guests which we will begin announcing &nbsp\;more soon!&nbsp\;</p>\n\n<p>FIRST SPECIAL GUEST ANNOUNCEMENT!&nbsp\;</p>\n\n<p>TODD TILGHMAN! SEASON 18 WINNER OF THE VOICE FROM TEAM BLAKE SHELTON!&nbsp\;</p>\n\n<p>This night will be magical and a wonderful reflection of the holidays ...join us at The Mulehouse for this specular Christmas show!&nbsp\;</p>\n\n<p>This is an 18 and up event unless accompanied by a parent or guardian.&nbsp\;</p>\n\n<p>For ADA requests\, please email info@themulehouse.com.</p>\n
LOCATION:The Mulehouse 812 S High St Columbia\, TN 38401
UID:e.1832.564498
SEQUENCE:3
DTSTAMP:20260425T202531Z
URL:https://business.mauryalliance.com/events/details/christmas-with-craig-wayne-boyd-564498
END:VEVENT

END:VCALENDAR
