BEGIN:VCALENDAR
VERSION:2.0
PRODID:-//ChamberMaster//Event Calendar 2.0//EN
METHOD:PUBLISH
X-PUBLISHED-TTL:P3D
REFRESH-INTERVAL:P3D
CALSCALE:GREGORIAN
BEGIN:VEVENT
DTSTART:20240219T220000Z
DTEND:20240219T230000Z
X-MICROSOFT-CDO-ALLDAYEVENT:FALSE
SUMMARY:Chamber Connect
DESCRIPTION:Chamber Connect: A Networking/Leads Exchange Event for Chamber Members\n\nJoin us at the Maury County Chamber & Economic Alliance office to network with other chamber members and build business relationships in Maury County at our Chamber Connect event.\n\n\n\nEach participant should be prepared talk about their business and introduce themselves. Register in advance if you plan to attend - attendance is limited.
X-ALT-DESC;FMTTYPE=text/html:<span style="font-size:16px\;"><strong>Chamber Connect: A Networking/Leads Exchange Event for Chamber Members</strong><br />\nJoin us at the Maury County Chamber &amp\; Economic Alliance office to network with other chamber members and build business relationships in Maury County at our Chamber Connect&nbsp\;event.<br />\n<br />\nEach participant should be prepared talk about their business and introduce themselves. Register in advance if you plan to attend - attendance is limited.&nbsp\;</span>
LOCATION:Maury County Chamber & Economic Alliance 106 W 6th Street Columbia\, TN 38401
UID:e.1832.564585
SEQUENCE:3
DTSTAMP:20260426T010144Z
URL:https://business.mauryalliance.com/events/details/chamber-connect-564585
END:VEVENT

END:VCALENDAR
