BEGIN:VCALENDAR
VERSION:2.0
PRODID:-//ChamberMaster//Event Calendar 2.0//EN
METHOD:PUBLISH
X-PUBLISHED-TTL:P3D
REFRESH-INTERVAL:P3D
CALSCALE:GREGORIAN
BEGIN:VEVENT
DTSTART:20240108T220000Z
DTEND:20240108T230000Z
X-MICROSOFT-CDO-ALLDAYEVENT:FALSE
SUMMARY:Chamber Connect
DESCRIPTION:Chamber Connect: A Networking/Leads Exchange Event for Chamber Members\n\n\n\nJoin us at Grinder's Switch Winery to network with other chamber members and build business relationships in Maury County at our Chamber Connect event. Each participant should be prepared to talk about their business and introduce themselves.\n\n\n\nRegister in advance if you plan to attend - attendance is limited.
X-ALT-DESC;FMTTYPE=text/html:<span style="font-size:16px\;"><strong>Chamber Connect: A Networking/Leads Exchange Event for Chamber Members</strong><br />\n<br />\nJoin us at Grinder&#39\;s Switch Winery to network with other chamber members and build business relationships in Maury County at our Chamber Connect&nbsp\;event. Each participant should be prepared to talk about their business and introduce themselves.<br />\n<br />\nRegister in advance if you plan to attend - attendance is limited.&nbsp\;</span>
LOCATION:Grinder's Switch 510 N Garden St\, Suite D Columbia\, TN 38401
UID:e.1832.564584
SEQUENCE:3
DTSTAMP:20260425T215218Z
URL:https://business.mauryalliance.com/events/details/chamber-connect-564584
END:VEVENT

END:VCALENDAR
