BEGIN:VCALENDAR
VERSION:2.0
PRODID:-//ChamberMaster//Event Calendar 2.0//EN
METHOD:PUBLISH
X-PUBLISHED-TTL:P3D
REFRESH-INTERVAL:P3D
CALSCALE:GREGORIAN
BEGIN:VEVENT
DTSTART:20231103T131500Z
DTEND:20231103T140500Z
X-MICROSOFT-CDO-ALLDAYEVENT:FALSE
SUMMARY:Chamber Connect
DESCRIPTION:Chamber Connect: A Networking/Leads Exchange Event for Chamber Members\n\nNetwork with other chamber members and build business relationships in Maury County at our Chamber Connect event. Each participant should be prepared talk about their business and introduce themselves. Register in advance if you plan to attend - attendance is limited.
X-ALT-DESC;FMTTYPE=text/html:<span style="font-size:16px\;"><strong>Chamber Connect: A Networking/Leads Exchange Event for Chamber Members</strong><br />\nNetwork with other chamber members and build business relationships in Maury County at our Chamber Connect&nbsp\;event. Each participant should be prepared talk about their business and introduce themselves. Register in advance if you plan to attend - attendance is limited.&nbsp\;</span>
LOCATION:Maury Alliance Downstairs Conference Room 106 West 6th St Columbia\, TN
UID:e.1832.563695
SEQUENCE:3
DTSTAMP:20260425T185755Z
URL:https://business.mauryalliance.com/events/details/chamber-connect-11-03-2023-563695
END:VEVENT

END:VCALENDAR
