BEGIN:VCALENDAR
VERSION:2.0
PRODID:-//ChamberMaster//Event Calendar 2.0//EN
METHOD:PUBLISH
X-PUBLISHED-TTL:P3D
REFRESH-INTERVAL:P3D
CALSCALE:GREGORIAN
BEGIN:VEVENT
DTSTART:20231214T200000Z
DTEND:20231214T210000Z
X-MICROSOFT-CDO-ALLDAYEVENT:FALSE
SUMMARY:Canceled!! Ribbon Cutting: Merited Favor Safe House
DESCRIPTION:Join Maury Alliance for a ribbon cutting ceremony celebrating Merited Favor Safe House's third year anniversary! \n\n...\nMerited Favor Safe House is a safe place for individuals who are starting fresh to reclaim their life they envisioned for themselves. Our safe house is here to help provide a new path way to individuals who have been recently released from treatment centers\, jails and or prisons.\n\n \n\nThe Targeted population for Merited Favor Safe House is for individuals recently released from institutions referred by courts and other resources\, recognizing the need for structure. Merited Favor Safe House also works with other organizations offsite.\n\n \n\nWe offer our residents the opportunities needed to create a solid and productive foundation for their lives\, through programmatic and supportive services. Each resident will commit to residing into the safe house for permanent housing upon compliance. Merited Favor Safe House fee is $650.00 monthly with a $200.00 deposit non refundable fee is due upon approval. \n\n \n\nWe equip and prepare our residents with the tools that they need to function in a healthy and productive manner in society. Merited Favor Safe House has two locations 300 West 2nd Street Columbia\, TN that houses 7 men and 1206 East End street that houses 4 men. Merited Favor Safe House keep each resident safe by doing random drug tests.\n\n \nWe are a sober\, safe and healthy living environment for men and women who are needing support to rebuild their lives promoting recovery from alcohol and drugs.
X-ALT-DESC;FMTTYPE=text/html:<span style="font-size:16px\;"><span style="font-family:arial\;">Join Maury Alliance for a ribbon cutting ceremony celebrating Merited Favor Safe House&#39\;s third year anniversary!&nbsp\;<br />\n...</span></span>\n<p style="box-sizing: inherit\; margin: 0px\; color: rgb(94\, 94\, 94)\; font-family: Lora\, serif\; font-size: 18px\;"><span style="font-size:16px\;"><span style="font-family:arial\;"><span style="color:#000000\;"><span style="box-sizing: inherit\;">Merited Favor Safe House is a safe place for individuals who are starting fresh to reclaim their life they envisioned for themselves. Our safe house is here to help provide a new path way to individuals who have been recently released from treatment centers\, jails and or prisons.</span></span></span></span><br />\n&nbsp\;</p>\n\n<p style="box-sizing: inherit\; margin: 0px\; color: rgb(94\, 94\, 94)\; font-family: Lora\, serif\; font-size: 18px\;"><span style="font-size:16px\;"><span style="font-family:arial\;"><span style="color:#000000\;"><span style="box-sizing: inherit\;">The Targeted population for Merited Favor Safe House is for individuals recently released from institutions referred by courts and other resources\, recognizing the need for structure. Merited Favor Safe House also works with other organizations offsite.</span></span></span></span></p>\n\n<p style="box-sizing: inherit\; margin: 0px\; color: rgb(94\, 94\, 94)\; font-family: Lora\, serif\; font-size: 18px\;">&nbsp\;</p>\n\n<p style="box-sizing: inherit\; margin: 0px\; color: rgb(94\, 94\, 94)\; font-family: Lora\, serif\; font-size: 18px\;"><span style="font-size:16px\;"><span style="font-family:arial\;"><span style="color:#000000\;"><span style="box-sizing: inherit\;">We offer our residents the opportunities needed to create a solid and productive foundation for their lives\, through programmatic and supportive services. Each resident will commit to residing into the safe house for permanent housing upon compliance. Merited Favor Safe House fee is $650.00 monthly with a $200.00 deposit non refundable fee is due upon approval.&nbsp\;</span></span></span></span></p>\n\n<p style="box-sizing: inherit\; margin: 0px\; color: rgb(94\, 94\, 94)\; font-family: Lora\, serif\; font-size: 18px\;">&nbsp\;</p>\n\n<p style="box-sizing: inherit\; margin: 0px\; color: rgb(94\, 94\, 94)\; font-family: Lora\, serif\; font-size: 18px\;"><span style="font-size:16px\;"><span style="font-family:arial\;"><span style="color:#000000\;"><span style="box-sizing: inherit\;">We equip and prepare our residents with the tools that they need to function in a healthy and productive manner in society. Merited Favor Safe House has two locations 300 West 2nd Street Columbia\, TN&nbsp\;that houses 7 men and 1206 East End street that houses 4 men. Merited Favor Safe House keep each resident safe by doing random drug tests.</span></span></span></span></p>\n\n<div>&nbsp\;\n<p style="box-sizing: inherit\; margin: 0px\; color: rgb(94\, 94\, 94)\; font-family: Lora\, serif\; font-size: 18px\;"><span style="font-size:16px\;"><span style="color:#000000\;"><span style="font-family:arial\;"><span style="box-sizing: inherit\;">We&nbsp\;are a sober\, safe and healthy living environment for men and women who are needing support to rebuild their lives promoting recovery from alcohol and drugs.</span></span></span></span></p>\n\n<div>&nbsp\;</div>\n</div>\n
LOCATION:300 West 2nd Street Columbia\, TN 38401
UID:e.1832.564502
SEQUENCE:3
DTSTAMP:20260425T203013Z
URL:https://business.mauryalliance.com/events/details/canceled-ribbon-cutting-merited-favor-safe-house-564502
END:VEVENT

END:VCALENDAR
