BEGIN:VCALENDAR
VERSION:2.0
PRODID:-//ChamberMaster//Event Calendar 2.0//EN
METHOD:PUBLISH
X-PUBLISHED-TTL:P3D
REFRESH-INTERVAL:P3D
CALSCALE:GREGORIAN
BEGIN:VEVENT
DTSTART:20240109T200000Z
DTEND:20240109T210000Z
X-MICROSOFT-CDO-ALLDAYEVENT:FALSE
SUMMARY:Canceled!! Ribbon Cutting: Big Five Fitness
DESCRIPTION:Join Maury Alliance for a ribbon cutting ceremony celebrating the grand opening of Big Five Fitness. \n\n...\n\nAt Big Five Fitness\, we're committed to providing you with a fitness experience that covers the five fundamental functional movement patterns. Our team of experienced trainers are dedicated to helping you achieve your fitness goals.\n\n\n\nWe believe that fitness is not just a physical activity but a way of life that encompasses the mind\, body and soul. Join us on this journey towards a healthier and happier you.
X-ALT-DESC;FMTTYPE=text/html:<span style="font-size:16px\;"><span style="font-family:arial\;">Join Maury Alliance for a ribbon cutting ceremony celebrating the grand opening of Big Five Fitness.&nbsp\;<br />\n...</span><br />\n<span style="color: rgb(0\, 0\, 0)\; font-family: k2d\, sans-serif\;">At Big Five Fitness\, we&#39\;re committed to providing you with a fitness experience that covers the five fundamental functional movement patterns. Our team of experienced trainers are dedicated to helping you achieve your fitness goals.<br />\n<br />\nWe believe that fitness is not just a physical activity but a way of life that encompasses the mind\, body and soul. Join us on this journey towards a healthier and happier you.</span></span>
LOCATION:2500 Cayer Lane\, Unit F Columbia\, TN 38401
UID:e.1832.564533
SEQUENCE:3
DTSTAMP:20260425T220435Z
URL:https://business.mauryalliance.com/events/details/canceled-ribbon-cutting-big-five-fitness-564533
END:VEVENT

END:VCALENDAR
